{"text_format":"1","workbook":"xlsx","n_sheets":18,"sheets":["Mode d'emploi","Joueurs","Match1","Match2","Match3","Match4","Match5","Match6","Match7","Match8","Match9","Match10","Match11","Match12","Match13","Match14","Match15","ClassementFinal"],"not_rendered":{"charts":0,"images":0,"macros":1,"external_links":0,"defined_names":0,"comments":0,"pivot_tables":0},"unopened":[],"bounds":{"document_bytes":16777216,"sheet_cells":100000,"rows_first":2000,"rows_last":500,"rows_between":2000,"halvings":0,"cell_chars":16384,"cell_head_chars":4096},"cells_cut":0,"cells_raw":0,"read":"whole","date_system":"1900"}

{"sheet":"Mode d'emploi","index":0,"n_rows":17,"n_cols":3,"rows_kept":17,"cut":false,"hidden":false,"merged":[]}
[]
[null,"Descriptif :","Ce programme est destiné aux Pointures de l'Est de l'année 2018"]
[null,"Spécifications fonctionnelles :","Ce programme prend en entrée les résultats des matches de 12 coups\net classe les joueurs selon l'ordre des critères suivants : \n- nombre de points (décroissant)\n- nombre de tops\n- nombre de tours concédés (croissant)\n- goal average (décroissant)"]
[null,null,"le nombre de points est calculé de la sorte :\n- 2 pts pour une victoire\n- 2 pts pour un match nul top-top\n- 1 pts pour un match nul\n- 0 pt pour une défaite"]
[]
[null,"Marche à suivre  :","remplir la feuille \"Joueurs\" avec les 16 joueurs dans leur ordre de classement"]
[]
[null,null,"remplir la feuille Match1 selon le modèle suivant :\nSCORE\n- si l'un des joueurs a mieux que son adversaire, il marque 1 pt et son adversaire 0 pt\n- si les deux joueurs ont un même résultat valide, 1 pt chacun \n- si les deux joueurs ont tous deux commis une erreur, 0 pt chacun\nTOPS\nRemplir le nombre de tops correspondant à chaque joueur\n"]
[null,null,"appuyer sur le bouton VALIDER"]
[null,null,"appuyer sur le bouton CLASSEMENT"]
[]
[null,null,"répéter cette boucle pour les feuilles Match\"i\", i allant de 2 à 15"]
[]
[null,"Macro supplémentaire :","Le bouton RESET situé en feuille Match1 réinitialisera les affichages des classements pour les feuilles Match1 à Match15, mais conservera les inscriptions des scores de chaque feuille Match1 à Match15"]
[null,null,"Ce bouton est à utiliser s'il y a eu une erreur de retranscription non décelée après appui sur le bouton\nVALIDER sur l'une des feuilles de Match, il faut alors revenir en feuille Match1 et répéter la boucle"]
[]
[null,null,"© 2017-2019 Emmanuel Dumas"]

{"sheet":"Joueurs","index":1,"n_rows":19,"n_cols":3,"rows_kept":19,"cut":false,"hidden":false,"merged":[[2,0,2,1]]}
[]
[]
["Classement régional",null,"Nom des joueurs"]
[null,"N° 1","Emmanuel DUMAS"]
[null,"N° 2","Christophe LECLÈRE"]
[null,"N° 3","Arnaud BLAYE"]
[null,"N° 4","Pascal FRITSCH"]
[null,"N° 5","Jean-Marc DURAND"]
[null,"N° 6","Cyrille PUMA"]
[null,"N° 7","Alain BURNEL"]
[null,"N° 8","Bertrand ADAM"]
[null,"N° 9","Héloïse CORNOUILLER"]
[null,"N° 10","Patrick BRAGANTI"]
[null,"N° 11","Ahmed BAKAYOKO"]
[null,"N° 12","Bruno CORNOUILLER"]
[null,"N° 13","Christian HAESELEER"]
[null,"N° 14","Christophe SAUTY"]
[null,"N° 15","Gilles VALDENAIRE"]
[null,"N° 16","Hervé MASUYER"]

{"sheet":"Match1","index":2,"n_rows":42,"n_cols":32,"rows_kept":42,"cut":false,"hidden":false,"merged":[[3,6,3,7],[3,8,3,9],[0,12,0,21],[2,12,2,21],[2,3,2,4],[3,4,3,5],[1,12,1,21],[1,3,1,4],[0,3,0,4]]}
[null,null,null,"Pointures de l'Est 2018",null,null,null,null,null,null,null,null,"Pointures de l'Est 2018"]
[null,null,null,"Laxou, le 23 février 2019",null,null,null,null,null,null,null,null,"Laxou, le 23 février 2019"]
[null,null,null,"Match n°1",null,null,null,null,null,null,null,null,"Classement après le match n°1"]
[null,null,"Joueur A","Joueur A","Joueur B",null,"Score",null,"Tops",null,null,"Place","Joueur","Pts","G","N","P","TT","T+","T-","Tops","GA"]
[null,"Table","N°","Nom","Nom","N°","A","B","A","B",null,1,{"$f":"Joueurs!$C$6","v":"Arnaud BLAYE"},2,1,0,0,0,7,0,12,7,null,0,0,0,0,0,0,0,0,0]
[null,1,1,{"$f":"Joueurs!$C$4","v":"Emmanuel DUMAS"},{"$f":"Joueurs!$C$19","v":"Hervé MASUYER"},16,12,8,12,8,null,2,{"$f":"Joueurs!$C$4","v":"Emmanuel DUMAS"},2,1,0,0,0,4,0,12,4,null,0,0,0,0,0,0,0,0,0]
[null,2,2,{"$f":"Joueurs!$C$5","v":"Christophe LECLÈRE"},{"$f":"Joueurs!$C$18","v":"Gilles VALDENAIRE"},15,10,11,10,11,null,3,{"$f":"Joueurs!$C$8","v":"Jean-Marc DURAND"},2,1,0,0,0,3,0,12,3,null,0,0,0,0,0,0,0,0,0]
[null,3,3,{"$f":"Joueurs!$C$6","v":"Arnaud BLAYE"},{"$f":"Joueurs!$C$17","v":"Christophe SAUTY"},14,12,5,12,5,null,4,{"$f":"Joueurs!$C$18","v":"Gilles VALDENAIRE"},2,1,0,0,0,2,1,11,1,null,0,0,0,0,0,0,0,0,0]
[null,4,4,{"$f":"Joueurs!$C$7","v":"Pascal FRITSCH"},{"$f":"Joueurs!$C$16","v":"Christian HAESELEER"},13,12,11,10,9,null,5,{"$f":"Joueurs!$C$10","v":"Alain BURNEL"},2,1,0,0,0,2,0,10,2,null,0,0,0,0,0,0,0,0,0]
[null,5,5,{"$f":"Joueurs!$C$8","v":"Jean-Marc DURAND"},{"$f":"Joueurs!$C$15","v":"Bruno CORNOUILLER"},12,12,9,12,9,null,6,{"$f":"Joueurs!$C$7","v":"Pascal FRITSCH"},2,1,0,0,0,1,0,10,1,null,0,0,0,0,0,0,0,0,0]
[null,6,6,{"$f":"Joueurs!$C$9","v":"Cyrille PUMA"},{"$f":"Joueurs!$C$14","v":"Ahmed BAKAYOKO"},11,10,10,9,8,null,7,{"$f":"Joueurs!$C$12","v":"Héloïse CORNOUILLER"},2,1,0,0,0,4,0,9,4,null,0,0,0,0,0,0,0,0,0]
[null,7,7,{"$f":"Joueurs!$C$10","v":"Alain BURNEL"},{"$f":"Joueurs!$C$13","v":"Patrick BRAGANTI"},10,12,10,10,9,null,8,{"$f":"Joueurs!$C$9","v":"Cyrille PUMA"},1,0,1,0,0,2,2,9,0,null,0,0,0,0,0,0,0,0,0]
[null,8,8,{"$f":"Joueurs!$C$11","v":"Bertrand ADAM"},{"$f":"Joueurs!$C$12","v":"Héloïse CORNOUILLER"},9,8,12,6,9,null,9,{"$f":"Joueurs!$C$14","v":"Ahmed BAKAYOKO"},1,0,1,0,0,2,2,8,0,null,0,0,0,0,0,0,0,0,0]
[null,null,null,null,null,null,null,null,null,null,null,10,{"$f":"Joueurs!$C$5","v":"Christophe LECLÈRE"},0,0,0,1,0,1,2,10,-1,null,0,0,0,0,0,0,0,0,0]
[null,null,null,null,null,null,null,null,null,null,null,11,{"$f":"Joueurs!$C$16","v":"Christian HAESELEER"},0,0,0,1,0,0,1,9,-1,null,0,0,0,0,0,0,0,0,0]
[null,null,null,null,null,null,null,null,null,null,null,12,{"$f":"Joueurs!$C$13","v":"Patrick BRAGANTI"},0,0,0,1,0,0,2,9,-2,null,0,0,0,0,0,0,0,0,0]
[null,null,null,null,null,null,null,null,null,null,null,13,{"$f":"Joueurs!$C$15","v":"Bruno CORNOUILLER"},0,0,0,1,0,0,3,9,-3,null,0,0,0,0,0,0,0,0,0]
[null,null,null,null,null,null,null,null,null,null,null,14,{"$f":"Joueurs!$C$19","v":"Hervé MASUYER"},0,0,0,1,0,0,4,8,-4,null,0,0,0,0,0,0,0,0,0]
[null,null,null,null,null,null,null,null,null,null,null,15,{"$f":"Joueurs!$C$11","v":"Bertrand ADAM"},0,0,0,1,0,0,4,6,-4,null,0,0,0,0,0,0,0,0,0]
[null,null,null,null,null,null,null,null,null,null,null,16,{"$f":"Joueurs!$C$17","v":"Christophe SAUTY"},0,0,0,1,0,0,7,5,-7,null,0,0,0,0,0,0,0,0,0]
[]
[]
[]
[]
[]
[null,null,null,null,null,null,null,null,null,null,"x","N°","Joueur","Pts","G","N","P","TT","T+","T-","Tops","GA"]
[null,null,null,null,null,null,null,null,null,null,null,1,{"$f":"Joueurs!$C$4","v":"Emmanuel DUMAS"},2,1,0,0,0,4,0,12,4]
[null,null,null,null,null,null,null,null,null,null,null,2,{"$f":"Joueurs!$C$5","v":"Christophe LECLÈRE"},0,0,0,1,0,1,2,10,-1]
[null,null,null,null,null,null,null,null,null,null,null,3,{"$f":"Joueurs!$C$6","v":"Arnaud BLAYE"},2,1,0,0,0,7,0,12,7]
[null,null,null,null,null,null,null,null,null,null,null,4,{"$f":"Joueurs!$C$7","v":"Pascal FRITSCH"},2,1,0,0,0,1,0,10,1]
[null,null,null,null,null,null,null,null,null,null,null,5,{"$f":"Joueurs!$C$8","v":"Jean-Marc DURAND"},2,1,0,0,0,3,0,12,3]
[null,null,null,null,null,null,null,null,null,null,null,6,{"$f":"Joueurs!$C$9","v":"Cyrille PUMA"},1,0,1,0,0,2,2,9,0]
[null,null,null,null,null,null,null,null,null,null,null,7,{"$f":"Joueurs!$C$10","v":"Alain BURNEL"},2,1,0,0,0,2,0,10,2]
[null,null,null,null,null,null,null,null,null,null,null,8,{"$f":"Joueurs!$C$11","v":"Bertrand ADAM"},0,0,0,1,0,0,4,6,-4]
[null,null,null,null,null,null,null,null,null,null,null,9,{"$f":"Joueurs!$C$12","v":"Héloïse CORNOUILLER"},2,1,0,0,0,4,0,9,4]
[null,null,null,null,null,null,null,null,null,null,null,10,{"$f":"Joueurs!$C$13","v":"Patrick BRAGANTI"},0,0,0,1,0,0,2,9,-2]
[null,null,null,null,null,null,null,null,null,null,null,11,{"$f":"Joueurs!$C$14","v":"Ahmed BAKAYOKO"},1,0,1,0,0,2,2,8,0]
[null,null,null,null,null,null,null,null,null,null,null,12,{"$f":"Joueurs!$C$15","v":"Bruno CORNOUILLER"},0,0,0,1,0,0,3,9,-3]
[null,null,null,null,null,null,null,null,null,null,null,13,{"$f":"Joueurs!$C$16","v":"Christian HAESELEER"},0,0,0,1,0,0,1,9,-1]
[null,null,null,null,null,null,null,null,null,null,null,14,{"$f":"Joueurs!$C$17","v":"Christophe SAUTY"},0,0,0,1,0,0,7,5,-7]
[null,null,null,null,null,null,null,null,null,null,null,15,{"$f":"Joueurs!$C$18","v":"Gilles VALDENAIRE"},2,1,0,0,0,2,1,11,1]
[null,null,null,null,null,null,null,null,null,null,null,16,{"$f":"Joueurs!$C$19","v":"Hervé MASUYER"},0,0,0,1,0,0,4,8,-4]

{"sheet":"Match2","index":3,"n_rows":42,"n_cols":32,"rows_kept":42,"cut":false,"hidden":false,"merged":[[3,4,3,5],[3,6,3,7],[3,8,3,9],[0,3,0,4],[0,12,0,21],[1,3,1,4],[1,12,1,21],[2,3,2,4],[2,12,2,21]]}
[null,null,null,"Pointures de l'Est 2018",null,null,null,null,null,null,null,null,"Pointures de l'Est 2018"]
[null,null,null,"Laxou, le 23 février 2019",null,null,null,null,null,null,null,null,"Laxou, le 23 février 2019"]
[null,null,null,"Match n°2",null,null,null,null,null,null,null,null,"Classement après le match n°2"]
[null,null,"Jou","Joueur A","Joueur B",null,"Score",null,"Tops",null,null,"Place","Joueur","Pts","G","N","P","TT","T+","T-","Tops","GA"]
[null,"Table","N°","Nom","Nom","N°","A","B","A","B",null,1,{"$f":"Joueurs!$C$6","v":"Arnaud BLAYE"},4,2,0,0,0,10,0,23,10,null,0,0,0,0,0,0,0,0,0]
[null,1,1,{"$f":"Joueurs!$C$4","v":"Emmanuel DUMAS"},{"$f":"Joueurs!$C$18","v":"Gilles VALDENAIRE"},15,11,9,11,9,null,2,{"$f":"Joueurs!$C$4","v":"Emmanuel DUMAS"},4,2,0,0,0,7,1,23,6,null,0,0,0,0,0,0,0,0,0]
[null,2,2,{"$f":"Joueurs!$C$5","v":"Christophe LECLÈRE"},{"$f":"Joueurs!$C$19","v":"Hervé MASUYER"},16,12,9,12,9,null,3,{"$f":"Joueurs!$C$8","v":"Jean-Marc DURAND"},4,2,0,0,0,5,1,23,4,null,0,0,0,0,0,0,0,0,0]
[null,3,3,{"$f":"Joueurs!$C$6","v":"Arnaud BLAYE"},{"$f":"Joueurs!$C$16","v":"Christian HAESELEER"},13,12,9,11,8,null,4,{"$f":"Joueurs!$C$7","v":"Pascal FRITSCH"},4,2,0,0,0,8,0,19,8,null,0,0,0,0,0,0,0,0,0]
[null,4,4,{"$f":"Joueurs!$C$7","v":"Pascal FRITSCH"},{"$f":"Joueurs!$C$17","v":"Christophe SAUTY"},14,12,5,9,3,null,5,{"$f":"Joueurs!$C$10","v":"Alain BURNEL"},3,1,1,0,0,3,1,20,2,null,0,0,0,0,0,0,0,0,0]
[null,5,5,{"$f":"Joueurs!$C$8","v":"Jean-Marc DURAND"},{"$f":"Joueurs!$C$14","v":"Ahmed BAKAYOKO"},11,11,10,11,10,null,6,{"$f":"Joueurs!$C$12","v":"Héloïse CORNOUILLER"},3,1,1,0,0,5,1,19,4,null,0,0,0,0,0,0,0,0,0]
[null,6,6,{"$f":"Joueurs!$C$9","v":"Cyrille PUMA"},{"$f":"Joueurs!$C$15","v":"Bruno CORNOUILLER"},12,11,12,10,11,null,7,{"$f":"Joueurs!$C$5","v":"Christophe LECLÈRE"},2,1,0,1,0,4,2,22,2,null,0,0,0,0,0,0,0,0,0]
[null,7,7,{"$f":"Joueurs!$C$10","v":"Alain BURNEL"},{"$f":"Joueurs!$C$12","v":"Héloïse CORNOUILLER"},9,11,11,10,10,null,8,{"$f":"Joueurs!$C$15","v":"Bruno CORNOUILLER"},2,1,0,1,0,1,3,20,-2,null,0,0,0,0,0,0,0,0,0]
[null,8,8,{"$f":"Joueurs!$C$11","v":"Bertrand ADAM"},{"$f":"Joueurs!$C$13","v":"Patrick BRAGANTI"},10,10,11,8,8,null,9,{"$f":"Joueurs!$C$18","v":"Gilles VALDENAIRE"},2,1,0,1,0,3,4,20,-1,null,0,0,0,0,0,0,0,0,0]
[null,null,null,null,null,null,null,null,null,null,null,10,{"$f":"Joueurs!$C$13","v":"Patrick BRAGANTI"},2,1,0,1,0,2,3,17,-1,null,0,0,0,0,0,0,0,0,0]
[null,null,null,null,null,null,null,null,null,null,null,11,{"$f":"Joueurs!$C$9","v":"Cyrille PUMA"},1,0,1,1,0,2,3,19,-1,null,0,0,0,0,0,0,0,0,0]
[null,null,null,null,null,null,null,null,null,null,null,12,{"$f":"Joueurs!$C$14","v":"Ahmed BAKAYOKO"},1,0,1,1,0,3,4,18,-1,null,0,0,0,0,0,0,0,0,0]
[null,null,null,null,null,null,null,null,null,null,null,13,{"$f":"Joueurs!$C$16","v":"Christian HAESELEER"},0,0,0,2,0,0,4,17,-4,null,0,0,0,0,0,0,0,0,0]
[null,null,null,null,null,null,null,null,null,null,null,14,{"$f":"Joueurs!$C$19","v":"Hervé MASUYER"},0,0,0,2,0,0,7,17,-7,null,0,0,0,0,0,0,0,0,0]
[null,null,null,null,null,null,null,null,null,null,null,15,{"$f":"Joueurs!$C$11","v":"Bertrand ADAM"},0,0,0,2,0,1,6,14,-5,null,0,0,0,0,0,0,0,0,0]
[null,null,null,null,null,null,null,null,null,null,null,16,{"$f":"Joueurs!$C$17","v":"Christophe SAUTY"},0,0,0,2,0,0,14,8,-14,null,0,0,0,0,0,0,0,0,0]
[]
[]
[]
[]
[]
[null,null,null,null,null,null,null,null,null,null,"x","N°","Joueur","Pts","G","N","P","TT","T+","T-","Tops","GA"]
[null,null,null,null,null,null,null,null,null,null,null,1,{"$f":"Joueurs!$C$4","v":"Emmanuel DUMAS"},4,2,0,0,0,7,1,23,6]
[null,null,null,null,null,null,null,null,null,null,null,2,{"$f":"Joueurs!$C$5","v":"Christophe LECLÈRE"},2,1,0,1,0,4,2,22,2]
[null,null,null,null,null,null,null,null,null,null,null,3,{"$f":"Joueurs!$C$6","v":"Arnaud BLAYE"},4,2,0,0,0,10,0,23,10]
[null,null,null,null,null,null,null,null,null,null,null,4,{"$f":"Joueurs!$C$7","v":"Pascal FRITSCH"},4,2,0,0,0,8,0,19,8]
[null,null,null,null,null,null,null,null,null,null,null,5,{"$f":"Joueurs!$C$8","v":"Jean-Marc DURAND"},4,2,0,0,0,5,1,23,4]
[null,null,null,null,null,null,null,null,null,null,null,6,{"$f":"Joueurs!$C$9","v":"Cyrille PUMA"},1,0,1,1,0,2,3,19,-1]
[null,null,null,null,null,null,null,null,null,null,null,7,{"$f":"Joueurs!$C$10","v":"Alain BURNEL"},3,1,1,0,0,3,1,20,2]
[null,null,null,null,null,null,null,null,null,null,null,8,{"$f":"Joueurs!$C$11","v":"Bertrand ADAM"},0,0,0,2,0,1,6,14,-5]
[null,null,null,null,null,null,null,null,null,null,null,9,{"$f":"Joueurs!$C$12","v":"Héloïse CORNOUILLER"},3,1,1,0,0,5,1,19,4]
[null,null,null,null,null,null,null,null,null,null,null,10,{"$f":"Joueurs!$C$13","v":"Patrick BRAGANTI"},2,1,0,1,0,2,3,17,-1]
[null,null,null,null,null,null,null,null,null,null,null,11,{"$f":"Joueurs!$C$14","v":"Ahmed BAKAYOKO"},1,0,1,1,0,3,4,18,-1]
[null,null,null,null,null,null,null,null,null,null,null,12,{"$f":"Joueurs!$C$15","v":"Bruno CORNOUILLER"},2,1,0,1,0,1,3,20,-2]
[null,null,null,null,null,null,null,null,null,null,null,13,{"$f":"Joueurs!$C$16","v":"Christian HAESELEER"},0,0,0,2,0,0,4,17,-4]
[null,null,null,null,null,null,null,null,null,null,null,14,{"$f":"Joueurs!$C$17","v":"Christophe SAUTY"},0,0,0,2,0,0,14,8,-14]
[null,null,null,null,null,null,null,null,null,null,null,15,{"$f":"Joueurs!$C$18","v":"Gilles VALDENAIRE"},2,1,0,1,0,3,4,20,-1]
[null,null,null,null,null,null,null,null,null,null,null,16,{"$f":"Joueurs!$C$19","v":"Hervé MASUYER"},0,0,0,2,0,0,7,17,-7]

{"sheet":"Match3","index":4,"n_rows":42,"n_cols":32,"rows_kept":42,"cut":false,"hidden":false,"merged":[[3,4,3,5],[3,6,3,7],[3,8,3,9],[0,3,0,4],[0,12,0,21],[1,3,1,4],[1,12,1,21],[2,3,2,4],[2,12,2,21]]}
[null,null,null,"Pointures de l'Est 2018",null,null,null,null,null,null,null,null,"Pointures de l'Est 2018"]
[null,null,null,"Laxou, le 23 février 2019",null,null,null,null,null,null,null,null,"Laxou, le 23 février 2019"]
[null,null,null,"Match n°3",null,null,null,null,null,null,null,null,"Classement après le match n°3"]
[null,null,"Jou","Joueur A","Joueur B",null,"Score",null,"Tops",null,null,"Place","Joueur","Pts","G","N","P","TT","T+","T-","Tops","GA"]
[null,"Table","N°","Nom","Nom","N°","A","B","A","B",null,1,{"$f":"Joueurs!$C$6","v":"Arnaud BLAYE"},6,3,0,0,0,12,0,35,12,null,0,0,0,0,0,0,0,0,0]
[null,1,1,{"$f":"Joueurs!$C$4","v":"Emmanuel DUMAS"},{"$f":"Joueurs!$C$17","v":"Christophe SAUTY"},14,11,10,11,9,null,2,{"$f":"Joueurs!$C$8","v":"Jean-Marc DURAND"},6,3,0,0,0,6,1,35,5,null,0,0,0,0,0,0,0,0,0]
[null,2,2,{"$f":"Joueurs!$C$5","v":"Christophe LECLÈRE"},{"$f":"Joueurs!$C$16","v":"Christian HAESELEER"},13,12,11,12,11,null,3,{"$f":"Joueurs!$C$4","v":"Emmanuel DUMAS"},6,3,0,0,0,9,2,34,7,null,0,0,0,0,0,0,0,0,0]
[null,3,3,{"$f":"Joueurs!$C$6","v":"Arnaud BLAYE"},{"$f":"Joueurs!$C$19","v":"Hervé MASUYER"},16,12,10,12,10,null,4,{"$f":"Joueurs!$C$7","v":"Pascal FRITSCH"},6,3,0,0,0,9,0,31,9,null,0,0,0,0,0,0,0,0,0]
[null,4,4,{"$f":"Joueurs!$C$7","v":"Pascal FRITSCH"},{"$f":"Joueurs!$C$18","v":"Gilles VALDENAIRE"},15,12,11,12,11,null,5,{"$f":"Joueurs!$C$5","v":"Christophe LECLÈRE"},4,2,0,1,0,5,2,34,3,null,0,0,0,0,0,0,0,0,0]
[null,5,5,{"$f":"Joueurs!$C$8","v":"Jean-Marc DURAND"},{"$f":"Joueurs!$C$13","v":"Patrick BRAGANTI"},10,12,11,12,11,null,6,{"$f":"Joueurs!$C$15","v":"Bruno CORNOUILLER"},4,2,0,1,0,2,3,31,-1,null,0,0,0,0,0,0,0,0,0]
[null,6,6,{"$f":"Joueurs!$C$9","v":"Cyrille PUMA"},{"$f":"Joueurs!$C$12","v":"Héloïse CORNOUILLER"},9,11,10,11,10,null,7,{"$f":"Joueurs!$C$10","v":"Alain BURNEL"},3,1,1,1,0,3,2,31,1,null,0,0,0,0,0,0,0,0,0]
[null,7,7,{"$f":"Joueurs!$C$10","v":"Alain BURNEL"},{"$f":"Joueurs!$C$15","v":"Bruno CORNOUILLER"},12,11,12,11,11,null,8,{"$f":"Joueurs!$C$9","v":"Cyrille PUMA"},3,1,1,1,0,4,4,30,0,null,0,0,0,0,0,0,0,0,0]
[null,8,8,{"$f":"Joueurs!$C$11","v":"Bertrand ADAM"},{"$f":"Joueurs!$C$14","v":"Ahmed BAKAYOKO"},11,12,10,12,10,null,9,{"$f":"Joueurs!$C$12","v":"Héloïse CORNOUILLER"},3,1,1,1,0,6,3,29,3,null,0,0,0,0,0,0,0,0,0]
[null,null,null,null,null,null,null,null,null,null,null,10,{"$f":"Joueurs!$C$18","v":"Gilles VALDENAIRE"},2,1,0,2,0,3,5,31,-2,null,0,0,0,0,0,0,0,0,0]
[null,null,null,null,null,null,null,null,null,null,null,11,{"$f":"Joueurs!$C$13","v":"Patrick BRAGANTI"},2,1,0,2,0,2,4,28,-2,null,0,0,0,0,0,0,0,0,0]
[null,null,null,null,null,null,null,null,null,null,null,12,{"$f":"Joueurs!$C$11","v":"Bertrand ADAM"},2,1,0,2,0,3,6,26,-3,null,0,0,0,0,0,0,0,0,0]
[null,null,null,null,null,null,null,null,null,null,null,13,{"$f":"Joueurs!$C$14","v":"Ahmed BAKAYOKO"},1,0,1,2,0,3,6,28,-3,null,0,0,0,0,0,0,0,0,0]
[null,null,null,null,null,null,null,null,null,null,null,14,{"$f":"Joueurs!$C$16","v":"Christian HAESELEER"},0,0,0,3,0,0,5,28,-5,null,0,0,0,0,0,0,0,0,0]
[null,null,null,null,null,null,null,null,null,null,null,15,{"$f":"Joueurs!$C$19","v":"Hervé MASUYER"},0,0,0,3,0,0,9,27,-9,null,0,0,0,0,0,0,0,0,0]
[null,null,null,null,null,null,null,null,null,null,null,16,{"$f":"Joueurs!$C$17","v":"Christophe SAUTY"},0,0,0,3,0,1,16,17,-15,null,0,0,0,0,0,0,0,0,0]
[]
[]
[]
[]
[]
[null,null,null,null,null,null,null,null,null,null,"x","N°","Joueur","Pts","G","N","P","TT","T+","T-","Tops","GA"]
[null,null,null,null,null,null,null,null,null,null,null,1,{"$f":"Joueurs!$C$4","v":"Emmanuel DUMAS"},6,3,0,0,0,9,2,34,7]
[null,null,null,null,null,null,null,null,null,null,null,2,{"$f":"Joueurs!$C$5","v":"Christophe LECLÈRE"},4,2,0,1,0,5,2,34,3]
[null,null,null,null,null,null,null,null,null,null,null,3,{"$f":"Joueurs!$C$6","v":"Arnaud BLAYE"},6,3,0,0,0,12,0,35,12]
[null,null,null,null,null,null,null,null,null,null,null,4,{"$f":"Joueurs!$C$7","v":"Pascal FRITSCH"},6,3,0,0,0,9,0,31,9]
[null,null,null,null,null,null,null,null,null,null,null,5,{"$f":"Joueurs!$C$8","v":"Jean-Marc DURAND"},6,3,0,0,0,6,1,35,5]
[null,null,null,null,null,null,null,null,null,null,null,6,{"$f":"Joueurs!$C$9","v":"Cyrille PUMA"},3,1,1,1,0,4,4,30,0]
[null,null,null,null,null,null,null,null,null,null,null,7,{"$f":"Joueurs!$C$10","v":"Alain BURNEL"},3,1,1,1,0,3,2,31,1]
[null,null,null,null,null,null,null,null,null,null,null,8,{"$f":"Joueurs!$C$11","v":"Bertrand ADAM"},2,1,0,2,0,3,6,26,-3]
[null,null,null,null,null,null,null,null,null,null,null,9,{"$f":"Joueurs!$C$12","v":"Héloïse CORNOUILLER"},3,1,1,1,0,6,3,29,3]
[null,null,null,null,null,null,null,null,null,null,null,10,{"$f":"Joueurs!$C$13","v":"Patrick BRAGANTI"},2,1,0,2,0,2,4,28,-2]
[null,null,null,null,null,null,null,null,null,null,null,11,{"$f":"Joueurs!$C$14","v":"Ahmed BAKAYOKO"},1,0,1,2,0,3,6,28,-3]
[null,null,null,null,null,null,null,null,null,null,null,12,{"$f":"Joueurs!$C$15","v":"Bruno CORNOUILLER"},4,2,0,1,0,2,3,31,-1]
[null,null,null,null,null,null,null,null,null,null,null,13,{"$f":"Joueurs!$C$16","v":"Christian HAESELEER"},0,0,0,3,0,0,5,28,-5]
[null,null,null,null,null,null,null,null,null,null,null,14,{"$f":"Joueurs!$C$17","v":"Christophe SAUTY"},0,0,0,3,0,1,16,17,-15]
[null,null,null,null,null,null,null,null,null,null,null,15,{"$f":"Joueurs!$C$18","v":"Gilles VALDENAIRE"},2,1,0,2,0,3,5,31,-2]
[null,null,null,null,null,null,null,null,null,null,null,16,{"$f":"Joueurs!$C$19","v":"Hervé MASUYER"},0,0,0,3,0,0,9,27,-9]

{"sheet":"Match4","index":5,"n_rows":42,"n_cols":32,"rows_kept":42,"cut":false,"hidden":false,"merged":[[3,4,3,5],[3,6,3,7],[3,8,3,9],[0,3,0,4],[0,12,0,21],[1,3,1,4],[1,12,1,21],[2,3,2,4],[2,12,2,21]]}
[null,null,null,"Pointures de l'Est 2018",null,null,null,null,null,null,null,null,"Pointures de l'Est 2018"]
[null,null,null,"Laxou, le 23 février 2019",null,null,null,null,null,null,null,null,"Laxou, le 23 février 2019"]
[null,null,null,"Match n°4",null,null,null,null,null,null,null,null,"Classement après le match n°4"]
[null,null,"Jou","Joueur A","Joueur B",null,"Score",null,"Tops",null,null,"Place","Joueur","Pts","G","N","P","TT","T+","T-","Tops","GA"]
[null,"Table","N°","Nom","Nom","N°","A","B","A","B",null,1,{"$f":"Joueurs!$C$6","v":"Arnaud BLAYE"},8,4,0,0,0,15,0,47,15,null,0,0,0,0,0,0,0,0,0]
[null,1,1,{"$f":"Joueurs!$C$4","v":"Emmanuel DUMAS"},{"$f":"Joueurs!$C$16","v":"Christian HAESELEER"},13,11,9,10,8,null,2,{"$f":"Joueurs!$C$8","v":"Jean-Marc DURAND"},8,4,0,0,0,10,1,47,9,null,0,0,0,0,0,0,0,0,0]
[null,2,2,{"$f":"Joueurs!$C$5","v":"Christophe LECLÈRE"},{"$f":"Joueurs!$C$17","v":"Christophe SAUTY"},14,11,9,11,8,null,3,{"$f":"Joueurs!$C$4","v":"Emmanuel DUMAS"},8,4,0,0,0,12,3,44,9,null,0,0,0,0,0,0,0,0,0]
[null,3,3,{"$f":"Joueurs!$C$6","v":"Arnaud BLAYE"},{"$f":"Joueurs!$C$18","v":"Gilles VALDENAIRE"},15,12,9,12,9,null,4,{"$f":"Joueurs!$C$7","v":"Pascal FRITSCH"},8,4,0,0,0,12,2,40,10,null,0,0,0,0,0,0,0,0,0]
[null,4,4,{"$f":"Joueurs!$C$7","v":"Pascal FRITSCH"},{"$f":"Joueurs!$C$19","v":"Hervé MASUYER"},16,10,9,9,8,null,5,{"$f":"Joueurs!$C$5","v":"Christophe LECLÈRE"},6,3,0,1,0,8,3,45,5,null,0,0,0,0,0,0,0,0,0]
[null,5,5,{"$f":"Joueurs!$C$8","v":"Jean-Marc DURAND"},{"$f":"Joueurs!$C$12","v":"Héloïse CORNOUILLER"},9,12,8,12,8,null,6,{"$f":"Joueurs!$C$15","v":"Bruno CORNOUILLER"},6,3,0,1,0,6,3,41,3,null,0,0,0,0,0,0,0,0,0]
[null,6,6,{"$f":"Joueurs!$C$9","v":"Cyrille PUMA"},{"$f":"Joueurs!$C$13","v":"Patrick BRAGANTI"},10,10,8,10,8,null,7,{"$f":"Joueurs!$C$10","v":"Alain BURNEL"},5,2,1,1,0,4,2,42,2,null,0,0,0,0,0,0,0,0,0]
[null,7,7,{"$f":"Joueurs!$C$10","v":"Alain BURNEL"},{"$f":"Joueurs!$C$14","v":"Ahmed BAKAYOKO"},11,12,11,11,10,null,8,{"$f":"Joueurs!$C$9","v":"Cyrille PUMA"},5,2,1,1,0,8,6,40,2,null,0,0,0,0,0,0,0,0,0]
[null,8,8,{"$f":"Joueurs!$C$11","v":"Bertrand ADAM"},{"$f":"Joueurs!$C$15","v":"Bruno CORNOUILLER"},12,8,12,7,10,null,9,{"$f":"Joueurs!$C$12","v":"Héloïse CORNOUILLER"},3,1,1,2,0,6,7,37,-1,null,0,0,0,0,0,0,0,0,0]
[null,null,null,null,null,null,null,null,null,null,null,10,{"$f":"Joueurs!$C$18","v":"Gilles VALDENAIRE"},2,1,0,3,0,3,8,40,-5,null,0,0,0,0,0,0,0,0,0]
[null,null,null,null,null,null,null,null,null,null,null,11,{"$f":"Joueurs!$C$13","v":"Patrick BRAGANTI"},2,1,0,3,0,4,8,36,-4,null,0,0,0,0,0,0,0,0,0]
[null,null,null,null,null,null,null,null,null,null,null,12,{"$f":"Joueurs!$C$11","v":"Bertrand ADAM"},2,1,0,3,0,3,10,33,-7,null,0,0,0,0,0,0,0,0,0]
[null,null,null,null,null,null,null,null,null,null,null,13,{"$f":"Joueurs!$C$14","v":"Ahmed BAKAYOKO"},1,0,1,3,0,3,7,38,-4,null,0,0,0,0,0,0,0,0,0]
[null,null,null,null,null,null,null,null,null,null,null,14,{"$f":"Joueurs!$C$16","v":"Christian HAESELEER"},0,0,0,4,0,1,8,36,-7,null,0,0,0,0,0,0,0,0,0]
[null,null,null,null,null,null,null,null,null,null,null,15,{"$f":"Joueurs!$C$19","v":"Hervé MASUYER"},0,0,0,4,0,2,12,35,-10,null,0,0,0,0,0,0,0,0,0]
[null,null,null,null,null,null,null,null,null,null,null,16,{"$f":"Joueurs!$C$17","v":"Christophe SAUTY"},0,0,0,4,0,2,19,25,-17,null,0,0,0,0,0,0,0,0,0]
[]
[]
[]
[]
[]
[null,null,null,null,null,null,null,null,null,null,"x","N°","Joueur","Pts","G","N","P","TT","T+","T-","Tops","GA"]
[null,null,null,null,null,null,null,null,null,null,null,1,{"$f":"Joueurs!$C$4","v":"Emmanuel DUMAS"},8,4,0,0,0,12,3,44,9]
[null,null,null,null,null,null,null,null,null,null,null,2,{"$f":"Joueurs!$C$5","v":"Christophe LECLÈRE"},6,3,0,1,0,8,3,45,5]
[null,null,null,null,null,null,null,null,null,null,null,3,{"$f":"Joueurs!$C$6","v":"Arnaud BLAYE"},8,4,0,0,0,15,0,47,15]
[null,null,null,null,null,null,null,null,null,null,null,4,{"$f":"Joueurs!$C$7","v":"Pascal FRITSCH"},8,4,0,0,0,12,2,40,10]
[null,null,null,null,null,null,null,null,null,null,null,5,{"$f":"Joueurs!$C$8","v":"Jean-Marc DURAND"},8,4,0,0,0,10,1,47,9]
[null,null,null,null,null,null,null,null,null,null,null,6,{"$f":"Joueurs!$C$9","v":"Cyrille PUMA"},5,2,1,1,0,8,6,40,2]
[null,null,null,null,null,null,null,null,null,null,null,7,{"$f":"Joueurs!$C$10","v":"Alain BURNEL"},5,2,1,1,0,4,2,42,2]
[null,null,null,null,null,null,null,null,null,null,null,8,{"$f":"Joueurs!$C$11","v":"Bertrand ADAM"},2,1,0,3,0,3,10,33,-7]
[null,null,null,null,null,null,null,null,null,null,null,9,{"$f":"Joueurs!$C$12","v":"Héloïse CORNOUILLER"},3,1,1,2,0,6,7,37,-1]
[null,null,null,null,null,null,null,null,null,null,null,10,{"$f":"Joueurs!$C$13","v":"Patrick BRAGANTI"},2,1,0,3,0,4,8,36,-4]
[null,null,null,null,null,null,null,null,null,null,null,11,{"$f":"Joueurs!$C$14","v":"Ahmed BAKAYOKO"},1,0,1,3,0,3,7,38,-4]
[null,null,null,null,null,null,null,null,null,null,null,12,{"$f":"Joueurs!$C$15","v":"Bruno CORNOUILLER"},6,3,0,1,0,6,3,41,3]
[null,null,null,null,null,null,null,null,null,null,null,13,{"$f":"Joueurs!$C$16","v":"Christian HAESELEER"},0,0,0,4,0,1,8,36,-7]
[null,null,null,null,null,null,null,null,null,null,null,14,{"$f":"Joueurs!$C$17","v":"Christophe SAUTY"},0,0,0,4,0,2,19,25,-17]
[null,null,null,null,null,null,null,null,null,null,null,15,{"$f":"Joueurs!$C$18","v":"Gilles VALDENAIRE"},2,1,0,3,0,3,8,40,-5]
[null,null,null,null,null,null,null,null,null,null,null,16,{"$f":"Joueurs!$C$19","v":"Hervé MASUYER"},0,0,0,4,0,2,12,35,-10]

{"sheet":"Match5","index":6,"n_rows":42,"n_cols":32,"rows_kept":42,"cut":false,"hidden":false,"merged":[[3,4,3,5],[3,6,3,7],[3,8,3,9],[0,3,0,4],[0,12,0,21],[1,3,1,4],[1,12,1,21],[2,3,2,4],[2,12,2,21]]}
[null,null,null,"Pointures de l'Est 2018",null,null,null,null,null,null,null,null,"Pointures de l'Est 2018"]
[null,null,null,"Laxou, le 23 février 2019",null,null,null,null,null,null,null,null,"Laxou, le 23 février 2019"]
[null,null,null,"Match n°5",null,null,null,null,null,null,null,null,"Classement après le match n°5"]
[null,null,"Jou","Joueur A","Joueur B",null,"Score",null,"Tops",null,null,"Place","Joueur","Pts","G","N","P","TT","T+","T-","Tops","GA"]
[null,"Table","N°","Nom","Nom","N°","A","B","A","B",null,1,{"$f":"Joueurs!$C$6","v":"Arnaud BLAYE"},10,5,0,0,0,19,0,58,19,null,0,0,0,0,0,0,0,0,0]
[null,1,1,{"$f":"Joueurs!$C$4","v":"Emmanuel DUMAS"},{"$f":"Joueurs!$C$15","v":"Bruno CORNOUILLER"},12,11,11,10,10,null,2,{"$f":"Joueurs!$C$8","v":"Jean-Marc DURAND"},10,5,0,0,0,14,2,58,12,null,0,0,0,0,0,0,0,0,0]
[null,2,2,{"$f":"Joueurs!$C$5","v":"Christophe LECLÈRE"},{"$f":"Joueurs!$C$14","v":"Ahmed BAKAYOKO"},11,11,10,11,9,null,3,{"$f":"Joueurs!$C$7","v":"Pascal FRITSCH"},10,5,0,0,0,14,2,50,12,null,0,0,0,0,0,0,0,0,0]
[null,3,3,{"$f":"Joueurs!$C$6","v":"Arnaud BLAYE"},{"$f":"Joueurs!$C$13","v":"Patrick BRAGANTI"},10,12,8,11,8,null,4,{"$f":"Joueurs!$C$4","v":"Emmanuel DUMAS"},9,4,1,0,0,13,4,54,9,null,0,0,0,0,0,0,0,0,0]
[null,4,4,{"$f":"Joueurs!$C$7","v":"Pascal FRITSCH"},{"$f":"Joueurs!$C$12","v":"Héloïse CORNOUILLER"},9,12,10,10,9,null,5,{"$f":"Joueurs!$C$5","v":"Christophe LECLÈRE"},8,4,0,1,0,10,4,56,6,null,0,0,0,0,0,0,0,0,0]
[null,5,5,{"$f":"Joueurs!$C$8","v":"Jean-Marc DURAND"},{"$f":"Joueurs!$C$19","v":"Hervé MASUYER"},16,11,8,11,8,null,6,{"$f":"Joueurs!$C$10","v":"Alain BURNEL"},7,3,1,1,0,6,2,52,4,null,0,0,0,0,0,0,0,0,0]
[null,6,6,{"$f":"Joueurs!$C$9","v":"Cyrille PUMA"},{"$f":"Joueurs!$C$18","v":"Gilles VALDENAIRE"},15,10,10,10,10,null,7,{"$f":"Joueurs!$C$15","v":"Bruno CORNOUILLER"},7,3,1,1,0,7,4,51,3,null,0,0,0,0,0,0,0,0,0]
[null,7,7,{"$f":"Joueurs!$C$10","v":"Alain BURNEL"},{"$f":"Joueurs!$C$17","v":"Christophe SAUTY"},14,12,10,10,8,null,8,{"$f":"Joueurs!$C$9","v":"Cyrille PUMA"},6,2,2,1,0,10,8,50,2,null,0,0,0,0,0,0,0,0,0]
[null,8,8,{"$f":"Joueurs!$C$11","v":"Bertrand ADAM"},{"$f":"Joueurs!$C$16","v":"Christian HAESELEER"},13,11,10,10,9,null,9,{"$f":"Joueurs!$C$11","v":"Bertrand ADAM"},4,2,0,3,0,5,11,43,-6,null,0,0,0,0,0,0,0,0,0]
[null,null,null,null,null,null,null,null,null,null,null,10,{"$f":"Joueurs!$C$18","v":"Gilles VALDENAIRE"},3,1,1,3,0,5,10,50,-5,null,0,0,0,0,0,0,0,0,0]
[null,null,null,null,null,null,null,null,null,null,null,11,{"$f":"Joueurs!$C$12","v":"Héloïse CORNOUILLER"},3,1,1,3,0,6,9,46,-3,null,0,0,0,0,0,0,0,0,0]
[null,null,null,null,null,null,null,null,null,null,null,12,{"$f":"Joueurs!$C$13","v":"Patrick BRAGANTI"},2,1,0,4,0,4,12,44,-8,null,0,0,0,0,0,0,0,0,0]
[null,null,null,null,null,null,null,null,null,null,null,13,{"$f":"Joueurs!$C$14","v":"Ahmed BAKAYOKO"},1,0,1,4,0,4,9,47,-5,null,0,0,0,0,0,0,0,0,0]
[null,null,null,null,null,null,null,null,null,null,null,14,{"$f":"Joueurs!$C$16","v":"Christian HAESELEER"},0,0,0,5,0,2,10,45,-8,null,0,0,0,0,0,0,0,0,0]
[null,null,null,null,null,null,null,null,null,null,null,15,{"$f":"Joueurs!$C$19","v":"Hervé MASUYER"},0,0,0,5,0,3,16,43,-13,null,0,0,0,0,0,0,0,0,0]
[null,null,null,null,null,null,null,null,null,null,null,16,{"$f":"Joueurs!$C$17","v":"Christophe SAUTY"},0,0,0,5,0,2,21,33,-19,null,0,0,0,0,0,0,0,0,0]
[]
[]
[]
[]
[]
[null,null,null,null,null,null,null,null,null,null,"x","N°","Joueur","Pts","G","N","P","TT","T+","T-","Tops","GA"]
[null,null,null,null,null,null,null,null,null,null,null,1,{"$f":"Joueurs!$C$4","v":"Emmanuel DUMAS"},9,4,1,0,0,13,4,54,9]
[null,null,null,null,null,null,null,null,null,null,null,2,{"$f":"Joueurs!$C$5","v":"Christophe LECLÈRE"},8,4,0,1,0,10,4,56,6]
[null,null,null,null,null,null,null,null,null,null,null,3,{"$f":"Joueurs!$C$6","v":"Arnaud BLAYE"},10,5,0,0,0,19,0,58,19]
[null,null,null,null,null,null,null,null,null,null,null,4,{"$f":"Joueurs!$C$7","v":"Pascal FRITSCH"},10,5,0,0,0,14,2,50,12]
[null,null,null,null,null,null,null,null,null,null,null,5,{"$f":"Joueurs!$C$8","v":"Jean-Marc DURAND"},10,5,0,0,0,14,2,58,12]
[null,null,null,null,null,null,null,null,null,null,null,6,{"$f":"Joueurs!$C$9","v":"Cyrille PUMA"},6,2,2,1,0,10,8,50,2]
[null,null,null,null,null,null,null,null,null,null,null,7,{"$f":"Joueurs!$C$10","v":"Alain BURNEL"},7,3,1,1,0,6,2,52,4]
[null,null,null,null,null,null,null,null,null,null,null,8,{"$f":"Joueurs!$C$11","v":"Bertrand ADAM"},4,2,0,3,0,5,11,43,-6]
[null,null,null,null,null,null,null,null,null,null,null,9,{"$f":"Joueurs!$C$12","v":"Héloïse CORNOUILLER"},3,1,1,3,0,6,9,46,-3]
[null,null,null,null,null,null,null,null,null,null,null,10,{"$f":"Joueurs!$C$13","v":"Patrick BRAGANTI"},2,1,0,4,0,4,12,44,-8]
[null,null,null,null,null,null,null,null,null,null,null,11,{"$f":"Joueurs!$C$14","v":"Ahmed BAKAYOKO"},1,0,1,4,0,4,9,47,-5]
[null,null,null,null,null,null,null,null,null,null,null,12,{"$f":"Joueurs!$C$15","v":"Bruno CORNOUILLER"},7,3,1,1,0,7,4,51,3]
[null,null,null,null,null,null,null,null,null,null,null,13,{"$f":"Joueurs!$C$16","v":"Christian HAESELEER"},0,0,0,5,0,2,10,45,-8]
[null,null,null,null,null,null,null,null,null,null,null,14,{"$f":"Joueurs!$C$17","v":"Christophe SAUTY"},0,0,0,5,0,2,21,33,-19]
[null,null,null,null,null,null,null,null,null,null,null,15,{"$f":"Joueurs!$C$18","v":"Gilles VALDENAIRE"},3,1,1,3,0,5,10,50,-5]
[null,null,null,null,null,null,null,null,null,null,null,16,{"$f":"Joueurs!$C$19","v":"Hervé MASUYER"},0,0,0,5,0,3,16,43,-13]

{"sheet":"Match6","index":7,"n_rows":42,"n_cols":32,"rows_kept":42,"cut":false,"hidden":false,"merged":[[3,4,3,5],[3,6,3,7],[3,8,3,9],[0,3,0,4],[0,12,0,21],[1,3,1,4],[1,12,1,21],[2,3,2,4],[2,12,2,21]]}
[null,null,null,"Pointures de l'Est 2018",null,null,null,null,null,null,null,null,"Pointures de l'Est 2018"]
[null,null,null,"Laxou, le 23 février 2019",null,null,null,null,null,null,null,null,"Laxou, le 23 février 2019"]
[null,null,null,"Match n°6",null,null,null,null,null,null,null,null,"Classement après le match n°6"]
[null,null,"Jou","Joueur A","Joueur B",null,"Score",null,"Tops",null,null,"Place","Joueur","Pts","G","N","P","TT","T+","T-","Tops","GA"]
[null,"Table","N°","Nom","Nom","N°","A","B","A","B",null,1,{"$f":"Joueurs!$C$6","v":"Arnaud BLAYE"},12,6,0,0,0,20,0,66,20,null,0,0,0,0,0,0,0,0,0]
[null,1,1,{"$f":"Joueurs!$C$4","v":"Emmanuel DUMAS"},{"$f":"Joueurs!$C$14","v":"Ahmed BAKAYOKO"},11,11,11,10,9,null,2,{"$f":"Joueurs!$C$7","v":"Pascal FRITSCH"},12,6,0,0,0,17,3,58,14,null,0,0,0,0,0,0,0,0,0]
[null,2,2,{"$f":"Joueurs!$C$5","v":"Christophe LECLÈRE"},{"$f":"Joueurs!$C$15","v":"Bruno CORNOUILLER"},12,11,11,8,8,null,3,{"$f":"Joueurs!$C$8","v":"Jean-Marc DURAND"},10,5,0,1,0,14,3,68,11,null,0,0,0,0,0,0,0,0,0]
[null,3,3,{"$f":"Joueurs!$C$6","v":"Arnaud BLAYE"},{"$f":"Joueurs!$C$12","v":"Héloïse CORNOUILLER"},9,12,11,8,7,null,4,{"$f":"Joueurs!$C$4","v":"Emmanuel DUMAS"},10,4,2,0,0,14,5,64,9,null,0,0,0,0,0,0,0,0,0]
[null,4,4,{"$f":"Joueurs!$C$7","v":"Pascal FRITSCH"},{"$f":"Joueurs!$C$13","v":"Patrick BRAGANTI"},10,11,9,8,7,null,5,{"$f":"Joueurs!$C$5","v":"Christophe LECLÈRE"},9,4,1,1,0,11,5,64,6,null,0,0,0,0,0,0,0,0,0]
[null,5,5,{"$f":"Joueurs!$C$8","v":"Jean-Marc DURAND"},{"$f":"Joueurs!$C$18","v":"Gilles VALDENAIRE"},15,11,12,10,11,null,6,{"$f":"Joueurs!$C$15","v":"Bruno CORNOUILLER"},8,3,2,1,0,8,5,59,3,null,0,0,0,0,0,0,0,0,0]
[null,6,6,{"$f":"Joueurs!$C$9","v":"Cyrille PUMA"},{"$f":"Joueurs!$C$19","v":"Hervé MASUYER"},16,10,8,8,7,null,7,{"$f":"Joueurs!$C$9","v":"Cyrille PUMA"},8,3,2,1,0,14,10,58,4,null,0,0,0,0,0,0,0,0,0]
[null,7,7,{"$f":"Joueurs!$C$10","v":"Alain BURNEL"},{"$f":"Joueurs!$C$16","v":"Christian HAESELEER"},13,8,9,7,8,null,8,{"$f":"Joueurs!$C$10","v":"Alain BURNEL"},7,3,1,2,0,9,6,59,3,null,0,0,0,0,0,0,0,0,0]
[null,8,8,{"$f":"Joueurs!$C$11","v":"Bertrand ADAM"},{"$f":"Joueurs!$C$17","v":"Christophe SAUTY"},14,10,10,10,8,null,9,{"$f":"Joueurs!$C$18","v":"Gilles VALDENAIRE"},5,2,1,3,0,6,10,61,-4,null,0,0,0,0,0,0,0,0,0]
[null,null,null,null,null,null,null,null,null,null,null,10,{"$f":"Joueurs!$C$11","v":"Bertrand ADAM"},5,2,1,3,0,7,13,53,-6,null,0,0,0,0,0,0,0,0,0]
[null,null,null,null,null,null,null,null,null,null,null,11,{"$f":"Joueurs!$C$12","v":"Héloïse CORNOUILLER"},3,1,1,4,0,6,10,53,-4,null,0,0,0,0,0,0,0,0,0]
[null,null,null,null,null,null,null,null,null,null,null,12,{"$f":"Joueurs!$C$14","v":"Ahmed BAKAYOKO"},2,0,2,4,0,5,10,56,-5,null,0,0,0,0,0,0,0,0,0]
[null,null,null,null,null,null,null,null,null,null,null,13,{"$f":"Joueurs!$C$16","v":"Christian HAESELEER"},2,1,0,5,0,6,13,53,-7,null,0,0,0,0,0,0,0,0,0]
[null,null,null,null,null,null,null,null,null,null,null,14,{"$f":"Joueurs!$C$13","v":"Patrick BRAGANTI"},2,1,0,5,0,5,15,51,-10,null,0,0,0,0,0,0,0,0,0]
[null,null,null,null,null,null,null,null,null,null,null,15,{"$f":"Joueurs!$C$17","v":"Christophe SAUTY"},1,0,1,5,0,4,23,41,-19,null,0,0,0,0,0,0,0,0,0]
[null,null,null,null,null,null,null,null,null,null,null,16,{"$f":"Joueurs!$C$19","v":"Hervé MASUYER"},0,0,0,6,0,5,20,50,-15,null,0,0,0,0,0,0,0,0,0]
[]
[]
[]
[]
[]
[null,null,null,null,null,null,null,null,null,null,"x","N°","Joueur","Pts","G","N","P","TT","T+","T-","Tops","GA"]
[null,null,null,null,null,null,null,null,null,null,null,1,{"$f":"Joueurs!$C$4","v":"Emmanuel DUMAS"},10,4,2,0,0,14,5,64,9]
[null,null,null,null,null,null,null,null,null,null,null,2,{"$f":"Joueurs!$C$5","v":"Christophe LECLÈRE"},9,4,1,1,0,11,5,64,6]
[null,null,null,null,null,null,null,null,null,null,null,3,{"$f":"Joueurs!$C$6","v":"Arnaud BLAYE"},12,6,0,0,0,20,0,66,20]
[null,null,null,null,null,null,null,null,null,null,null,4,{"$f":"Joueurs!$C$7","v":"Pascal FRITSCH"},12,6,0,0,0,17,3,58,14]
[null,null,null,null,null,null,null,null,null,null,null,5,{"$f":"Joueurs!$C$8","v":"Jean-Marc DURAND"},10,5,0,1,0,14,3,68,11]
[null,null,null,null,null,null,null,null,null,null,null,6,{"$f":"Joueurs!$C$9","v":"Cyrille PUMA"},8,3,2,1,0,14,10,58,4]
[null,null,null,null,null,null,null,null,null,null,null,7,{"$f":"Joueurs!$C$10","v":"Alain BURNEL"},7,3,1,2,0,9,6,59,3]
[null,null,null,null,null,null,null,null,null,null,null,8,{"$f":"Joueurs!$C$11","v":"Bertrand ADAM"},5,2,1,3,0,7,13,53,-6]
[null,null,null,null,null,null,null,null,null,null,null,9,{"$f":"Joueurs!$C$12","v":"Héloïse CORNOUILLER"},3,1,1,4,0,6,10,53,-4]
[null,null,null,null,null,null,null,null,null,null,null,10,{"$f":"Joueurs!$C$13","v":"Patrick BRAGANTI"},2,1,0,5,0,5,15,51,-10]
[null,null,null,null,null,null,null,null,null,null,null,11,{"$f":"Joueurs!$C$14","v":"Ahmed BAKAYOKO"},2,0,2,4,0,5,10,56,-5]
[null,null,null,null,null,null,null,null,null,null,null,12,{"$f":"Joueurs!$C$15","v":"Bruno CORNOUILLER"},8,3,2,1,0,8,5,59,3]
[null,null,null,null,null,null,null,null,null,null,null,13,{"$f":"Joueurs!$C$16","v":"Christian HAESELEER"},2,1,0,5,0,6,13,53,-7]
[null,null,null,null,null,null,null,null,null,null,null,14,{"$f":"Joueurs!$C$17","v":"Christophe SAUTY"},1,0,1,5,0,4,23,41,-19]
[null,null,null,null,null,null,null,null,null,null,null,15,{"$f":"Joueurs!$C$18","v":"Gilles VALDENAIRE"},5,2,1,3,0,6,10,61,-4]
[null,null,null,null,null,null,null,null,null,null,null,16,{"$f":"Joueurs!$C$19","v":"Hervé MASUYER"},0,0,0,6,0,5,20,50,-15]

{"sheet":"Match7","index":8,"n_rows":42,"n_cols":32,"rows_kept":42,"cut":false,"hidden":false,"merged":[[3,4,3,5],[3,6,3,7],[3,8,3,9],[0,3,0,4],[0,12,0,21],[1,3,1,4],[1,12,1,21],[2,3,2,4],[2,12,2,21]]}
[null,null,null,"Pointures de l'Est 2018",null,null,null,null,null,null,null,null,"Pointures de l'Est 2018"]
[null,null,null,"Laxou, le 23 février 2019",null,null,null,null,null,null,null,null,"Laxou, le 23 février 2019"]
[null,null,null,"Match n°7",null,null,null,null,null,null,null,null,"Classement après le match n°7"]
[null,null,"Jou","Joueur A","Joueur B",null,"Score",null,"Tops",null,null,"Place","Joueur","Pts","G","N","P","TT","T+","T-","Tops","GA"]
[null,"Table","N°","Nom","Nom","N°","A","B","A","B",null,1,{"$f":"Joueurs!$C$6","v":"Arnaud BLAYE"},14,7,0,0,0,22,0,78,22,null,0,0,0,0,0,0,0,0,0]
[null,1,1,{"$f":"Joueurs!$C$4","v":"Emmanuel DUMAS"},{"$f":"Joueurs!$C$13","v":"Patrick BRAGANTI"},10,11,11,10,10,null,2,{"$f":"Joueurs!$C$7","v":"Pascal FRITSCH"},14,7,0,0,0,20,3,69,17,null,0,0,0,0,0,0,0,0,0]
[null,2,2,{"$f":"Joueurs!$C$5","v":"Christophe LECLÈRE"},{"$f":"Joueurs!$C$12","v":"Héloïse CORNOUILLER"},9,12,9,11,9,null,3,{"$f":"Joueurs!$C$8","v":"Jean-Marc DURAND"},11,5,1,1,0,15,4,78,11,null,0,0,0,0,0,0,0,0,0]
[null,3,3,{"$f":"Joueurs!$C$6","v":"Arnaud BLAYE"},{"$f":"Joueurs!$C$15","v":"Bruno CORNOUILLER"},12,12,10,12,10,null,4,{"$f":"Joueurs!$C$5","v":"Christophe LECLÈRE"},11,5,1,1,0,14,5,75,9,null,0,0,0,0,0,0,0,0,0]
[null,4,4,{"$f":"Joueurs!$C$7","v":"Pascal FRITSCH"},{"$f":"Joueurs!$C$14","v":"Ahmed BAKAYOKO"},11,12,9,11,8,null,5,{"$f":"Joueurs!$C$4","v":"Emmanuel DUMAS"},11,4,3,0,0,15,6,74,9,null,0,0,0,0,0,0,0,0,0]
[null,5,5,{"$f":"Joueurs!$C$8","v":"Jean-Marc DURAND"},{"$f":"Joueurs!$C$17","v":"Christophe SAUTY"},14,11,11,10,9,null,6,{"$f":"Joueurs!$C$10","v":"Alain BURNEL"},9,4,1,2,0,12,7,69,5,null,0,0,0,0,0,0,0,0,0]
[null,6,6,{"$f":"Joueurs!$C$9","v":"Cyrille PUMA"},{"$f":"Joueurs!$C$16","v":"Christian HAESELEER"},13,8,12,7,11,null,7,{"$f":"Joueurs!$C$15","v":"Bruno CORNOUILLER"},8,3,2,2,0,8,7,69,1,null,0,0,0,0,0,0,0,0,0]
[null,7,7,{"$f":"Joueurs!$C$10","v":"Alain BURNEL"},{"$f":"Joueurs!$C$19","v":"Hervé MASUYER"},16,11,9,10,8,null,8,{"$f":"Joueurs!$C$9","v":"Cyrille PUMA"},8,3,2,2,0,14,14,65,0,null,0,0,0,0,0,0,0,0,0]
[null,8,8,{"$f":"Joueurs!$C$11","v":"Bertrand ADAM"},{"$f":"Joueurs!$C$18","v":"Gilles VALDENAIRE"},15,12,12,10,10,null,9,{"$f":"Joueurs!$C$18","v":"Gilles VALDENAIRE"},6,2,2,3,0,6,10,71,-4,null,0,0,0,0,0,0,0,0,0]
[null,null,null,null,null,null,null,null,null,null,null,10,{"$f":"Joueurs!$C$11","v":"Bertrand ADAM"},6,2,2,3,0,7,13,63,-6,null,0,0,0,0,0,0,0,0,0]
[null,null,null,null,null,null,null,null,null,null,null,11,{"$f":"Joueurs!$C$16","v":"Christian HAESELEER"},4,2,0,5,0,10,13,64,-3,null,0,0,0,0,0,0,0,0,0]
[null,null,null,null,null,null,null,null,null,null,null,12,{"$f":"Joueurs!$C$12","v":"Héloïse CORNOUILLER"},3,1,1,5,0,6,13,62,-7,null,0,0,0,0,0,0,0,0,0]
[null,null,null,null,null,null,null,null,null,null,null,13,{"$f":"Joueurs!$C$13","v":"Patrick BRAGANTI"},3,1,1,5,0,6,16,61,-10,null,0,0,0,0,0,0,0,0,0]
[null,null,null,null,null,null,null,null,null,null,null,14,{"$f":"Joueurs!$C$14","v":"Ahmed BAKAYOKO"},2,0,2,5,0,5,13,64,-8,null,0,0,0,0,0,0,0,0,0]
[null,null,null,null,null,null,null,null,null,null,null,15,{"$f":"Joueurs!$C$17","v":"Christophe SAUTY"},2,0,2,5,0,5,24,50,-19,null,0,0,0,0,0,0,0,0,0]
[null,null,null,null,null,null,null,null,null,null,null,16,{"$f":"Joueurs!$C$19","v":"Hervé MASUYER"},0,0,0,7,0,6,23,58,-17,null,0,0,0,0,0,0,0,0,0]
[]
[]
[]
[]
[]
[null,null,null,null,null,null,null,null,null,null,"x","N°","Joueur","Pts","G","N","P","TT","T+","T-","Tops","GA"]
[null,null,null,null,null,null,null,null,null,null,null,1,{"$f":"Joueurs!$C$4","v":"Emmanuel DUMAS"},11,4,3,0,0,15,6,74,9]
[null,null,null,null,null,null,null,null,null,null,null,2,{"$f":"Joueurs!$C$5","v":"Christophe LECLÈRE"},11,5,1,1,0,14,5,75,9]
[null,null,null,null,null,null,null,null,null,null,null,3,{"$f":"Joueurs!$C$6","v":"Arnaud BLAYE"},14,7,0,0,0,22,0,78,22]
[null,null,null,null,null,null,null,null,null,null,null,4,{"$f":"Joueurs!$C$7","v":"Pascal FRITSCH"},14,7,0,0,0,20,3,69,17]
[null,null,null,null,null,null,null,null,null,null,null,5,{"$f":"Joueurs!$C$8","v":"Jean-Marc DURAND"},11,5,1,1,0,15,4,78,11]
[null,null,null,null,null,null,null,null,null,null,null,6,{"$f":"Joueurs!$C$9","v":"Cyrille PUMA"},8,3,2,2,0,14,14,65,0]
[null,null,null,null,null,null,null,null,null,null,null,7,{"$f":"Joueurs!$C$10","v":"Alain BURNEL"},9,4,1,2,0,12,7,69,5]
[null,null,null,null,null,null,null,null,null,null,null,8,{"$f":"Joueurs!$C$11","v":"Bertrand ADAM"},6,2,2,3,0,7,13,63,-6]
[null,null,null,null,null,null,null,null,null,null,null,9,{"$f":"Joueurs!$C$12","v":"Héloïse CORNOUILLER"},3,1,1,5,0,6,13,62,-7]
[null,null,null,null,null,null,null,null,null,null,null,10,{"$f":"Joueurs!$C$13","v":"Patrick BRAGANTI"},3,1,1,5,0,6,16,61,-10]
[null,null,null,null,null,null,null,null,null,null,null,11,{"$f":"Joueurs!$C$14","v":"Ahmed BAKAYOKO"},2,0,2,5,0,5,13,64,-8]
[null,null,null,null,null,null,null,null,null,null,null,12,{"$f":"Joueurs!$C$15","v":"Bruno CORNOUILLER"},8,3,2,2,0,8,7,69,1]
[null,null,null,null,null,null,null,null,null,null,null,13,{"$f":"Joueurs!$C$16","v":"Christian HAESELEER"},4,2,0,5,0,10,13,64,-3]
[null,null,null,null,null,null,null,null,null,null,null,14,{"$f":"Joueurs!$C$17","v":"Christophe SAUTY"},2,0,2,5,0,5,24,50,-19]
[null,null,null,null,null,null,null,null,null,null,null,15,{"$f":"Joueurs!$C$18","v":"Gilles VALDENAIRE"},6,2,2,3,0,6,10,71,-4]
[null,null,null,null,null,null,null,null,null,null,null,16,{"$f":"Joueurs!$C$19","v":"Hervé MASUYER"},0,0,0,7,0,6,23,58,-17]

{"sheet":"Match8","index":9,"n_rows":42,"n_cols":32,"rows_kept":42,"cut":false,"hidden":false,"merged":[[3,4,3,5],[3,6,3,7],[3,8,3,9],[0,3,0,4],[0,12,0,21],[1,3,1,4],[1,12,1,21],[2,3,2,4],[2,12,2,21]]}
[null,null,null,"Pointures de l'Est 2018",null,null,null,null,null,null,null,null,"Pointures de l'Est 2018"]
[null,null,null,"Laxou, le 23 février 2019",null,null,null,null,null,null,null,null,"Laxou, le 23 février 2019"]
[null,null,null,"Match n°8",null,null,null,null,null,null,null,null,"Classement après le match n°8"]
[null,null,"Jou","Joueur A","Joueur B",null,"Score",null,"Tops",null,null,"Place","Joueur","Pts","G","N","P","TT","T+","T-","Tops","GA"]
[null,"Table","N°","Nom","Nom","N°","A","B","A","B",null,1,{"$f":"Joueurs!$C$6","v":"Arnaud BLAYE"},16,8,0,0,0,24,0,89,24,null,0,0,0,0,0,0,0,0,0]
[null,1,1,{"$f":"Joueurs!$C$4","v":"Emmanuel DUMAS"},{"$f":"Joueurs!$C$12","v":"Héloïse CORNOUILLER"},9,10,12,10,12,null,2,{"$f":"Joueurs!$C$7","v":"Pascal FRITSCH"},14,7,0,1,0,20,5,78,15,null,0,0,0,0,0,0,0,0,0]
[null,2,2,{"$f":"Joueurs!$C$5","v":"Christophe LECLÈRE"},{"$f":"Joueurs!$C$13","v":"Patrick BRAGANTI"},10,11,8,9,7,null,3,{"$f":"Joueurs!$C$8","v":"Jean-Marc DURAND"},13,6,1,1,0,19,4,89,15,null,0,0,0,0,0,0,0,0,0]
[null,3,3,{"$f":"Joueurs!$C$6","v":"Arnaud BLAYE"},{"$f":"Joueurs!$C$14","v":"Ahmed BAKAYOKO"},11,12,10,11,9,null,4,{"$f":"Joueurs!$C$5","v":"Christophe LECLÈRE"},13,6,1,1,0,18,6,84,12,null,0,0,0,0,0,0,0,0,0]
[null,4,4,{"$f":"Joueurs!$C$7","v":"Pascal FRITSCH"},{"$f":"Joueurs!$C$15","v":"Bruno CORNOUILLER"},12,10,12,9,10,null,5,{"$f":"Joueurs!$C$4","v":"Emmanuel DUMAS"},11,4,3,1,0,15,8,84,7,null,0,0,0,0,0,0,0,0,0]
[null,5,5,{"$f":"Joueurs!$C$8","v":"Jean-Marc DURAND"},{"$f":"Joueurs!$C$16","v":"Christian HAESELEER"},13,12,8,11,7,null,6,{"$f":"Joueurs!$C$10","v":"Alain BURNEL"},11,5,1,2,0,14,8,80,6,null,0,0,0,0,0,0,0,0,0]
[null,6,6,{"$f":"Joueurs!$C$9","v":"Cyrille PUMA"},{"$f":"Joueurs!$C$17","v":"Christophe SAUTY"},14,12,12,10,10,null,7,{"$f":"Joueurs!$C$15","v":"Bruno CORNOUILLER"},10,4,2,2,0,10,7,79,3,null,0,0,0,0,0,0,0,0,0]
[null,7,7,{"$f":"Joueurs!$C$10","v":"Alain BURNEL"},{"$f":"Joueurs!$C$18","v":"Gilles VALDENAIRE"},15,11,10,11,10,null,8,{"$f":"Joueurs!$C$9","v":"Cyrille PUMA"},9,3,3,2,0,14,14,75,0,null,0,0,0,0,0,0,0,0,0]
[null,8,8,{"$f":"Joueurs!$C$11","v":"Bertrand ADAM"},{"$f":"Joueurs!$C$19","v":"Hervé MASUYER"},16,9,8,9,8,null,9,{"$f":"Joueurs!$C$11","v":"Bertrand ADAM"},8,3,2,3,0,11,16,72,-5,null,0,0,0,0,0,0,0,0,0]
[null,null,null,null,null,null,null,null,null,null,null,10,{"$f":"Joueurs!$C$18","v":"Gilles VALDENAIRE"},6,2,2,4,0,7,12,81,-5,null,0,0,0,0,0,0,0,0,0]
[null,null,null,null,null,null,null,null,null,null,null,11,{"$f":"Joueurs!$C$12","v":"Héloïse CORNOUILLER"},5,2,1,5,0,8,13,74,-5,null,0,0,0,0,0,0,0,0,0]
[null,null,null,null,null,null,null,null,null,null,null,12,{"$f":"Joueurs!$C$16","v":"Christian HAESELEER"},4,2,0,6,0,10,17,71,-7,null,0,0,0,0,0,0,0,0,0]
[null,null,null,null,null,null,null,null,null,null,null,13,{"$f":"Joueurs!$C$13","v":"Patrick BRAGANTI"},3,1,1,6,0,7,20,68,-13,null,0,0,0,0,0,0,0,0,0]
[null,null,null,null,null,null,null,null,null,null,null,14,{"$f":"Joueurs!$C$17","v":"Christophe SAUTY"},3,0,3,5,0,5,24,60,-19,null,0,0,0,0,0,0,0,0,0]
[null,null,null,null,null,null,null,null,null,null,null,15,{"$f":"Joueurs!$C$14","v":"Ahmed BAKAYOKO"},2,0,2,6,0,5,15,73,-10,null,0,0,0,0,0,0,0,0,0]
[null,null,null,null,null,null,null,null,null,null,null,16,{"$f":"Joueurs!$C$19","v":"Hervé MASUYER"},0,0,0,8,0,9,27,66,-18,null,0,0,0,0,0,0,0,0,0]
[]
[]
[]
[]
[]
[null,null,null,null,null,null,null,null,null,null,"x","N°","Joueur","Pts","G","N","P","TT","T+","T-","Tops","GA"]
[null,null,null,null,null,null,null,null,null,null,null,1,{"$f":"Joueurs!$C$4","v":"Emmanuel DUMAS"},11,4,3,1,0,15,8,84,7]
[null,null,null,null,null,null,null,null,null,null,null,2,{"$f":"Joueurs!$C$5","v":"Christophe LECLÈRE"},13,6,1,1,0,18,6,84,12]
[null,null,null,null,null,null,null,null,null,null,null,3,{"$f":"Joueurs!$C$6","v":"Arnaud BLAYE"},16,8,0,0,0,24,0,89,24]
[null,null,null,null,null,null,null,null,null,null,null,4,{"$f":"Joueurs!$C$7","v":"Pascal FRITSCH"},14,7,0,1,0,20,5,78,15]
[null,null,null,null,null,null,null,null,null,null,null,5,{"$f":"Joueurs!$C$8","v":"Jean-Marc DURAND"},13,6,1,1,0,19,4,89,15]
[null,null,null,null,null,null,null,null,null,null,null,6,{"$f":"Joueurs!$C$9","v":"Cyrille PUMA"},9,3,3,2,0,14,14,75,0]
[null,null,null,null,null,null,null,null,null,null,null,7,{"$f":"Joueurs!$C$10","v":"Alain BURNEL"},11,5,1,2,0,14,8,80,6]
[null,null,null,null,null,null,null,null,null,null,null,8,{"$f":"Joueurs!$C$11","v":"Bertrand ADAM"},8,3,2,3,0,11,16,72,-5]
[null,null,null,null,null,null,null,null,null,null,null,9,{"$f":"Joueurs!$C$12","v":"Héloïse CORNOUILLER"},5,2,1,5,0,8,13,74,-5]
[null,null,null,null,null,null,null,null,null,null,null,10,{"$f":"Joueurs!$C$13","v":"Patrick BRAGANTI"},3,1,1,6,0,7,20,68,-13]
[null,null,null,null,null,null,null,null,null,null,null,11,{"$f":"Joueurs!$C$14","v":"Ahmed BAKAYOKO"},2,0,2,6,0,5,15,73,-10]
[null,null,null,null,null,null,null,null,null,null,null,12,{"$f":"Joueurs!$C$15","v":"Bruno CORNOUILLER"},10,4,2,2,0,10,7,79,3]
[null,null,null,null,null,null,null,null,null,null,null,13,{"$f":"Joueurs!$C$16","v":"Christian HAESELEER"},4,2,0,6,0,10,17,71,-7]
[null,null,null,null,null,null,null,null,null,null,null,14,{"$f":"Joueurs!$C$17","v":"Christophe SAUTY"},3,0,3,5,0,5,24,60,-19]
[null,null,null,null,null,null,null,null,null,null,null,15,{"$f":"Joueurs!$C$18","v":"Gilles VALDENAIRE"},6,2,2,4,0,7,12,81,-5]
[null,null,null,null,null,null,null,null,null,null,null,16,{"$f":"Joueurs!$C$19","v":"Hervé MASUYER"},0,0,0,8,0,9,27,66,-18]

{"sheet":"Match9","index":10,"n_rows":42,"n_cols":32,"rows_kept":42,"cut":false,"hidden":false,"merged":[[3,4,3,5],[3,6,3,7],[3,8,3,9],[0,3,0,4],[0,12,0,21],[1,3,1,4],[1,12,1,21],[2,3,2,4],[2,12,2,21]]}
[null,null,null,"Pointures de l'Est 2018",null,null,null,null,null,null,null,null,"Pointures de l'Est 2018"]
[null,null,null,"Laxou, le 23 février 2019",null,null,null,null,null,null,null,null,"Laxou, le 23 février 2019"]
[null,null,null,"Match n°9",null,null,null,null,null,null,null,null,"Classement après le match n°9"]
[null,null,"Jou","Joueur A","Joueur B",null,"Score",null,"Tops",null,null,"Place","Joueur","Pts","G","N","P","TT","T+","T-","Tops","GA"]
[null,"Table","N°","Nom","Nom","N°","A","B","A","B",null,1,{"$f":"Joueurs!$C$6","v":"Arnaud BLAYE"},18,9,0,0,0,26,0,100,26,null,0,0,0,0,0,0,0,0,0]
[null,1,1,{"$f":"Joueurs!$C$4","v":"Emmanuel DUMAS"},{"$f":"Joueurs!$C$11","v":"Bertrand ADAM"},8,12,8,11,8,null,2,{"$f":"Joueurs!$C$8","v":"Jean-Marc DURAND"},15,7,1,1,0,21,5,100,16,null,0,0,0,0,0,0,0,0,0]
[null,2,2,{"$f":"Joueurs!$C$5","v":"Christophe LECLÈRE"},{"$f":"Joueurs!$C$10","v":"Alain BURNEL"},7,12,12,10,10,null,3,{"$f":"Joueurs!$C$5","v":"Christophe LECLÈRE"},14,6,2,1,0,18,6,94,12,null,0,0,0,0,0,0,0,0,0]
[null,3,3,{"$f":"Joueurs!$C$6","v":"Arnaud BLAYE"},{"$f":"Joueurs!$C$9","v":"Cyrille PUMA"},6,12,10,11,9,null,4,{"$f":"Joueurs!$C$7","v":"Pascal FRITSCH"},14,7,0,2,0,21,7,88,14,null,0,0,0,0,0,0,0,0,0]
[null,4,4,{"$f":"Joueurs!$C$7","v":"Pascal FRITSCH"},{"$f":"Joueurs!$C$8","v":"Jean-Marc DURAND"},5,10,11,10,11,null,5,{"$f":"Joueurs!$C$4","v":"Emmanuel DUMAS"},13,5,3,1,0,19,8,95,11,null,0,0,0,0,0,0,0,0,0]
[null,5,9,{"$f":"Joueurs!$C$12","v":"Héloïse CORNOUILLER"},{"$f":"Joueurs!$C$19","v":"Hervé MASUYER"},16,11,12,10,11,null,6,{"$f":"Joueurs!$C$10","v":"Alain BURNEL"},12,5,2,2,0,14,8,90,6,null,0,0,0,0,0,0,0,0,0]
[null,6,10,{"$f":"Joueurs!$C$13","v":"Patrick BRAGANTI"},{"$f":"Joueurs!$C$18","v":"Gilles VALDENAIRE"},15,9,10,9,10,null,7,{"$f":"Joueurs!$C$15","v":"Bruno CORNOUILLER"},11,4,3,2,0,12,9,89,3,null,0,0,0,0,0,0,0,0,0]
[null,7,11,{"$f":"Joueurs!$C$14","v":"Ahmed BAKAYOKO"},{"$f":"Joueurs!$C$17","v":"Christophe SAUTY"},14,12,7,12,7,null,8,{"$f":"Joueurs!$C$9","v":"Cyrille PUMA"},9,3,3,3,0,14,16,84,-2,null,0,0,0,0,0,0,0,0,0]
[null,8,12,{"$f":"Joueurs!$C$15","v":"Bruno CORNOUILLER"},{"$f":"Joueurs!$C$16","v":"Christian HAESELEER"},13,10,10,10,10,null,9,{"$f":"Joueurs!$C$18","v":"Gilles VALDENAIRE"},8,3,2,4,0,10,14,91,-4,null,0,0,0,0,0,0,0,0,0]
[null,null,null,null,null,null,null,null,null,null,null,10,{"$f":"Joueurs!$C$11","v":"Bertrand ADAM"},8,3,2,4,0,11,20,80,-9,null,0,0,0,0,0,0,0,0,0]
[null,null,null,null,null,null,null,null,null,null,null,11,{"$f":"Joueurs!$C$12","v":"Héloïse CORNOUILLER"},5,2,1,6,0,8,14,84,-6,null,0,0,0,0,0,0,0,0,0]
[null,null,null,null,null,null,null,null,null,null,null,12,{"$f":"Joueurs!$C$16","v":"Christian HAESELEER"},5,2,1,6,0,12,19,81,-7,null,0,0,0,0,0,0,0,0,0]
[null,null,null,null,null,null,null,null,null,null,null,13,{"$f":"Joueurs!$C$14","v":"Ahmed BAKAYOKO"},4,1,2,6,0,10,15,85,-5,null,0,0,0,0,0,0,0,0,0]
[null,null,null,null,null,null,null,null,null,null,null,14,{"$f":"Joueurs!$C$13","v":"Patrick BRAGANTI"},3,1,1,7,0,9,23,77,-14,null,0,0,0,0,0,0,0,0,0]
[null,null,null,null,null,null,null,null,null,null,null,15,{"$f":"Joueurs!$C$17","v":"Christophe SAUTY"},3,0,3,6,0,5,29,67,-24,null,0,0,0,0,0,0,0,0,0]
[null,null,null,null,null,null,null,null,null,null,null,16,{"$f":"Joueurs!$C$19","v":"Hervé MASUYER"},2,1,0,8,0,10,27,77,-17,null,0,0,0,0,0,0,0,0,0]
[]
[]
[]
[]
[]
[null,null,null,null,null,null,null,null,null,null,"x","N°","Joueur","Pts","G","N","P","TT","T+","T-","Tops","GA"]
[null,null,null,null,null,null,null,null,null,null,null,1,{"$f":"Joueurs!$C$4","v":"Emmanuel DUMAS"},13,5,3,1,0,19,8,95,11]
[null,null,null,null,null,null,null,null,null,null,null,2,{"$f":"Joueurs!$C$5","v":"Christophe LECLÈRE"},14,6,2,1,0,18,6,94,12]
[null,null,null,null,null,null,null,null,null,null,null,3,{"$f":"Joueurs!$C$6","v":"Arnaud BLAYE"},18,9,0,0,0,26,0,100,26]
[null,null,null,null,null,null,null,null,null,null,null,4,{"$f":"Joueurs!$C$7","v":"Pascal FRITSCH"},14,7,0,2,0,21,7,88,14]
[null,null,null,null,null,null,null,null,null,null,null,5,{"$f":"Joueurs!$C$8","v":"Jean-Marc DURAND"},15,7,1,1,0,21,5,100,16]
[null,null,null,null,null,null,null,null,null,null,null,6,{"$f":"Joueurs!$C$9","v":"Cyrille PUMA"},9,3,3,3,0,14,16,84,-2]
[null,null,null,null,null,null,null,null,null,null,null,7,{"$f":"Joueurs!$C$10","v":"Alain BURNEL"},12,5,2,2,0,14,8,90,6]
[null,null,null,null,null,null,null,null,null,null,null,8,{"$f":"Joueurs!$C$11","v":"Bertrand ADAM"},8,3,2,4,0,11,20,80,-9]
[null,null,null,null,null,null,null,null,null,null,null,9,{"$f":"Joueurs!$C$12","v":"Héloïse CORNOUILLER"},5,2,1,6,0,8,14,84,-6]
[null,null,null,null,null,null,null,null,null,null,null,10,{"$f":"Joueurs!$C$13","v":"Patrick BRAGANTI"},3,1,1,7,0,9,23,77,-14]
[null,null,null,null,null,null,null,null,null,null,null,11,{"$f":"Joueurs!$C$14","v":"Ahmed BAKAYOKO"},4,1,2,6,0,10,15,85,-5]
[null,null,null,null,null,null,null,null,null,null,null,12,{"$f":"Joueurs!$C$15","v":"Bruno CORNOUILLER"},11,4,3,2,0,12,9,89,3]
[null,null,null,null,null,null,null,null,null,null,null,13,{"$f":"Joueurs!$C$16","v":"Christian HAESELEER"},5,2,1,6,0,12,19,81,-7]
[null,null,null,null,null,null,null,null,null,null,null,14,{"$f":"Joueurs!$C$17","v":"Christophe SAUTY"},3,0,3,6,0,5,29,67,-24]
[null,null,null,null,null,null,null,null,null,null,null,15,{"$f":"Joueurs!$C$18","v":"Gilles VALDENAIRE"},8,3,2,4,0,10,14,91,-4]
[null,null,null,null,null,null,null,null,null,null,null,16,{"$f":"Joueurs!$C$19","v":"Hervé MASUYER"},2,1,0,8,0,10,27,77,-17]

{"sheet":"Match10","index":11,"n_rows":42,"n_cols":32,"rows_kept":42,"cut":false,"hidden":false,"merged":[[3,4,3,5],[3,6,3,7],[3,8,3,9],[0,3,0,4],[0,12,0,21],[1,3,1,4],[1,12,1,21],[2,3,2,4],[2,12,2,21]]}
[null,null,null,"Pointures de l'Est 2018",null,null,null,null,null,null,null,null,"Pointures de l'Est 2018"]
[null,null,null,"Laxou, le 23 février 2019",null,null,null,null,null,null,null,null,"Laxou, le 23 février 2019"]
[null,null,null,"Match n°10",null,null,null,null,null,null,null,null,"Classement après le match n°10"]
[null,null,"Jou","Joueur A","Joueur B",null,"Score",null,"Tops",null,null,"Place","Joueur","Pts","G","N","P","TT","T+","T-","Tops","GA"]
[null,"Table","N°","Nom","Nom","N°","A","B","A","B",null,1,{"$f":"Joueurs!$C$6","v":"Arnaud BLAYE"},18,9,0,1,0,26,2,110,24,null,0,0,0,0,0,0,0,0,0]
[null,1,1,{"$f":"Joueurs!$C$4","v":"Emmanuel DUMAS"},{"$f":"Joueurs!$C$10","v":"Alain BURNEL"},7,11,12,9,10,null,2,{"$f":"Joueurs!$C$8","v":"Jean-Marc DURAND"},17,8,1,1,0,23,5,111,18,null,0,0,0,0,0,0,0,0,0]
[null,2,2,{"$f":"Joueurs!$C$5","v":"Christophe LECLÈRE"},{"$f":"Joueurs!$C$11","v":"Bertrand ADAM"},8,11,9,10,8,null,3,{"$f":"Joueurs!$C$5","v":"Christophe LECLÈRE"},16,7,2,1,0,21,7,104,14,null,0,0,0,0,0,0,0,0,0]
[null,3,3,{"$f":"Joueurs!$C$6","v":"Arnaud BLAYE"},{"$f":"Joueurs!$C$8","v":"Jean-Marc DURAND"},5,10,12,10,11,null,4,{"$f":"Joueurs!$C$7","v":"Pascal FRITSCH"},15,7,1,2,0,21,7,98,14,null,0,0,0,0,0,0,0,0,0]
[null,4,4,{"$f":"Joueurs!$C$7","v":"Pascal FRITSCH"},{"$f":"Joueurs!$C$9","v":"Cyrille PUMA"},6,12,12,10,10,null,5,{"$f":"Joueurs!$C$10","v":"Alain BURNEL"},14,6,2,2,0,15,8,100,7,null,0,0,0,0,0,0,0,0,0]
[null,5,9,{"$f":"Joueurs!$C$12","v":"Héloïse CORNOUILLER"},{"$f":"Joueurs!$C$18","v":"Gilles VALDENAIRE"},15,9,9,9,9,null,6,{"$f":"Joueurs!$C$4","v":"Emmanuel DUMAS"},13,5,3,2,0,19,9,104,10,null,0,0,0,0,0,0,0,0,0]
[null,6,10,{"$f":"Joueurs!$C$13","v":"Patrick BRAGANTI"},{"$f":"Joueurs!$C$19","v":"Hervé MASUYER"},16,10,9,9,8,null,7,{"$f":"Joueurs!$C$15","v":"Bruno CORNOUILLER"},13,5,3,2,0,15,9,98,6,null,0,0,0,0,0,0,0,0,0]
[null,7,11,{"$f":"Joueurs!$C$14","v":"Ahmed BAKAYOKO"},{"$f":"Joueurs!$C$16","v":"Christian HAESELEER"},13,11,9,11,9,null,8,{"$f":"Joueurs!$C$9","v":"Cyrille PUMA"},10,3,4,3,0,14,16,94,-2,null,0,0,0,0,0,0,0,0,0]
[null,8,12,{"$f":"Joueurs!$C$15","v":"Bruno CORNOUILLER"},{"$f":"Joueurs!$C$17","v":"Christophe SAUTY"},14,12,9,9,7,null,9,{"$f":"Joueurs!$C$18","v":"Gilles VALDENAIRE"},9,3,3,4,0,13,17,100,-4,null,0,0,0,0,0,0,0,0,0]
[null,null,null,null,null,null,null,null,null,null,null,10,{"$f":"Joueurs!$C$11","v":"Bertrand ADAM"},8,3,2,5,0,12,23,88,-11,null,0,0,0,0,0,0,0,0,0]
[null,null,null,null,null,null,null,null,null,null,null,11,{"$f":"Joueurs!$C$14","v":"Ahmed BAKAYOKO"},6,2,2,6,0,13,16,96,-3,null,0,0,0,0,0,0,0,0,0]
[null,null,null,null,null,null,null,null,null,null,null,12,{"$f":"Joueurs!$C$12","v":"Héloïse CORNOUILLER"},6,2,2,6,0,11,17,93,-6,null,0,0,0,0,0,0,0,0,0]
[null,null,null,null,null,null,null,null,null,null,null,13,{"$f":"Joueurs!$C$16","v":"Christian HAESELEER"},5,2,1,7,0,13,22,90,-9,null,0,0,0,0,0,0,0,0,0]
[null,null,null,null,null,null,null,null,null,null,null,14,{"$f":"Joueurs!$C$13","v":"Patrick BRAGANTI"},5,2,1,7,0,12,25,86,-13,null,0,0,0,0,0,0,0,0,0]
[null,null,null,null,null,null,null,null,null,null,null,15,{"$f":"Joueurs!$C$17","v":"Christophe SAUTY"},3,0,3,7,0,5,32,74,-27,null,0,0,0,0,0,0,0,0,0]
[null,null,null,null,null,null,null,null,null,null,null,16,{"$f":"Joueurs!$C$19","v":"Hervé MASUYER"},2,1,0,9,0,12,30,85,-18,null,0,0,0,0,0,0,0,0,0]
[]
[]
[]
[]
[]
[null,null,null,null,null,null,null,null,null,null,"x","N°","Joueur","Pts","G","N","P","TT","T+","T-","Tops","GA"]
[null,null,null,null,null,null,null,null,null,null,null,1,{"$f":"Joueurs!$C$4","v":"Emmanuel DUMAS"},13,5,3,2,0,19,9,104,10]
[null,null,null,null,null,null,null,null,null,null,null,2,{"$f":"Joueurs!$C$5","v":"Christophe LECLÈRE"},16,7,2,1,0,21,7,104,14]
[null,null,null,null,null,null,null,null,null,null,null,3,{"$f":"Joueurs!$C$6","v":"Arnaud BLAYE"},18,9,0,1,0,26,2,110,24]
[null,null,null,null,null,null,null,null,null,null,null,4,{"$f":"Joueurs!$C$7","v":"Pascal FRITSCH"},15,7,1,2,0,21,7,98,14]
[null,null,null,null,null,null,null,null,null,null,null,5,{"$f":"Joueurs!$C$8","v":"Jean-Marc DURAND"},17,8,1,1,0,23,5,111,18]
[null,null,null,null,null,null,null,null,null,null,null,6,{"$f":"Joueurs!$C$9","v":"Cyrille PUMA"},10,3,4,3,0,14,16,94,-2]
[null,null,null,null,null,null,null,null,null,null,null,7,{"$f":"Joueurs!$C$10","v":"Alain BURNEL"},14,6,2,2,0,15,8,100,7]
[null,null,null,null,null,null,null,null,null,null,null,8,{"$f":"Joueurs!$C$11","v":"Bertrand ADAM"},8,3,2,5,0,12,23,88,-11]
[null,null,null,null,null,null,null,null,null,null,null,9,{"$f":"Joueurs!$C$12","v":"Héloïse CORNOUILLER"},6,2,2,6,0,11,17,93,-6]
[null,null,null,null,null,null,null,null,null,null,null,10,{"$f":"Joueurs!$C$13","v":"Patrick BRAGANTI"},5,2,1,7,0,12,25,86,-13]
[null,null,null,null,null,null,null,null,null,null,null,11,{"$f":"Joueurs!$C$14","v":"Ahmed BAKAYOKO"},6,2,2,6,0,13,16,96,-3]
[null,null,null,null,null,null,null,null,null,null,null,12,{"$f":"Joueurs!$C$15","v":"Bruno CORNOUILLER"},13,5,3,2,0,15,9,98,6]
[null,null,null,null,null,null,null,null,null,null,null,13,{"$f":"Joueurs!$C$16","v":"Christian HAESELEER"},5,2,1,7,0,13,22,90,-9]
[null,null,null,null,null,null,null,null,null,null,null,14,{"$f":"Joueurs!$C$17","v":"Christophe SAUTY"},3,0,3,7,0,5,32,74,-27]
[null,null,null,null,null,null,null,null,null,null,null,15,{"$f":"Joueurs!$C$18","v":"Gilles VALDENAIRE"},9,3,3,4,0,13,17,100,-4]
[null,null,null,null,null,null,null,null,null,null,null,16,{"$f":"Joueurs!$C$19","v":"Hervé MASUYER"},2,1,0,9,0,12,30,85,-18]

{"sheet":"Match11","index":12,"n_rows":42,"n_cols":32,"rows_kept":42,"cut":false,"hidden":false,"merged":[[3,4,3,5],[3,6,3,7],[3,8,3,9],[0,3,0,4],[0,12,0,21],[1,3,1,4],[1,12,1,21],[2,3,2,4],[2,12,2,21]]}
[null,null,null,"Pointures de l'Est 2018",null,null,null,null,null,null,null,null,"Pointures de l'Est 2018"]
[null,null,null,"Laxou, le 23 février 2019",null,null,null,null,null,null,null,null,"Laxou, le 23 février 2019"]
[null,null,null,"Match n°11",null,null,null,null,null,null,null,null,"Classement après le match n°11"]
[null,null,"Jou","Joueur A","Joueur B",null,"Score",null,"Tops",null,null,"Place","Joueur","Pts","G","N","P","TT","T+","T-","Tops","GA"]
[null,"Table","N°","Nom","Nom","N°","A","B","A","B",null,1,{"$f":"Joueurs!$C$6","v":"Arnaud BLAYE"},20,10,0,1,0,28,3,121,25,null,0,0,0,0,0,0,0,0,0]
[null,1,1,{"$f":"Joueurs!$C$4","v":"Emmanuel DUMAS"},{"$f":"Joueurs!$C$9","v":"Cyrille PUMA"},6,12,10,12,10,null,2,{"$f":"Joueurs!$C$8","v":"Jean-Marc DURAND"},19,9,1,1,0,24,5,122,19,null,0,0,0,0,0,0,0,0,0]
[null,2,2,{"$f":"Joueurs!$C$5","v":"Christophe LECLÈRE"},{"$f":"Joueurs!$C$8","v":"Jean-Marc DURAND"},5,11,12,10,11,null,3,{"$f":"Joueurs!$C$7","v":"Pascal FRITSCH"},17,8,1,2,0,23,7,110,16,null,0,0,0,0,0,0,0,0,0]
[null,3,3,{"$f":"Joueurs!$C$6","v":"Arnaud BLAYE"},{"$f":"Joueurs!$C$11","v":"Bertrand ADAM"},8,11,10,11,10,null,4,{"$f":"Joueurs!$C$5","v":"Christophe LECLÈRE"},16,7,2,2,0,21,8,114,13,null,0,0,0,0,0,0,0,0,0]
[null,4,4,{"$f":"Joueurs!$C$7","v":"Pascal FRITSCH"},{"$f":"Joueurs!$C$10","v":"Alain BURNEL"},7,12,10,12,10,null,5,{"$f":"Joueurs!$C$4","v":"Emmanuel DUMAS"},15,6,3,2,0,21,9,116,12,null,0,0,0,0,0,0,0,0,0]
[null,5,9,{"$f":"Joueurs!$C$12","v":"Héloïse CORNOUILLER"},{"$f":"Joueurs!$C$17","v":"Christophe SAUTY"},14,11,9,10,7,null,6,{"$f":"Joueurs!$C$10","v":"Alain BURNEL"},14,6,2,3,0,15,10,110,5,null,0,0,0,0,0,0,0,0,0]
[null,6,10,{"$f":"Joueurs!$C$13","v":"Patrick BRAGANTI"},{"$f":"Joueurs!$C$16","v":"Christian HAESELEER"},13,10,9,8,9,null,7,{"$f":"Joueurs!$C$15","v":"Bruno CORNOUILLER"},14,5,4,2,0,16,10,109,6,null,0,0,0,0,0,0,0,0,0]
[null,7,11,{"$f":"Joueurs!$C$14","v":"Ahmed BAKAYOKO"},{"$f":"Joueurs!$C$19","v":"Hervé MASUYER"},16,10,11,10,10,null,8,{"$f":"Joueurs!$C$18","v":"Gilles VALDENAIRE"},10,3,4,4,0,14,18,111,-4,null,0,0,0,0,0,0,0,0,0]
[null,8,12,{"$f":"Joueurs!$C$15","v":"Bruno CORNOUILLER"},{"$f":"Joueurs!$C$18","v":"Gilles VALDENAIRE"},15,11,11,11,11,null,9,{"$f":"Joueurs!$C$9","v":"Cyrille PUMA"},10,3,4,4,0,14,18,104,-4,null,0,0,0,0,0,0,0,0,0]
[null,null,null,null,null,null,null,null,null,null,null,10,{"$f":"Joueurs!$C$12","v":"Héloïse CORNOUILLER"},8,3,2,6,0,14,18,103,-4,null,0,0,0,0,0,0,0,0,0]
[null,null,null,null,null,null,null,null,null,null,null,11,{"$f":"Joueurs!$C$11","v":"Bertrand ADAM"},8,3,2,6,0,13,25,98,-12,null,0,0,0,0,0,0,0,0,0]
[null,null,null,null,null,null,null,null,null,null,null,12,{"$f":"Joueurs!$C$13","v":"Patrick BRAGANTI"},7,3,1,7,0,15,27,94,-12,null,0,0,0,0,0,0,0,0,0]
[null,null,null,null,null,null,null,null,null,null,null,13,{"$f":"Joueurs!$C$14","v":"Ahmed BAKAYOKO"},6,2,2,7,0,14,18,106,-4,null,0,0,0,0,0,0,0,0,0]
[null,null,null,null,null,null,null,null,null,null,null,14,{"$f":"Joueurs!$C$16","v":"Christian HAESELEER"},5,2,1,8,0,15,25,99,-10,null,0,0,0,0,0,0,0,0,0]
[null,null,null,null,null,null,null,null,null,null,null,15,{"$f":"Joueurs!$C$19","v":"Hervé MASUYER"},4,2,0,9,0,14,31,95,-17,null,0,0,0,0,0,0,0,0,0]
[null,null,null,null,null,null,null,null,null,null,null,16,{"$f":"Joueurs!$C$17","v":"Christophe SAUTY"},3,0,3,8,0,6,35,81,-29,null,0,0,0,0,0,0,0,0,0]
[]
[]
[]
[]
[]
[null,null,null,null,null,null,null,null,null,null,"x","N°","Joueur","Pts","G","N","P","TT","T+","T-","Tops","GA"]
[null,null,null,null,null,null,null,null,null,null,null,1,{"$f":"Joueurs!$C$4","v":"Emmanuel DUMAS"},15,6,3,2,0,21,9,116,12]
[null,null,null,null,null,null,null,null,null,null,null,2,{"$f":"Joueurs!$C$5","v":"Christophe LECLÈRE"},16,7,2,2,0,21,8,114,13]
[null,null,null,null,null,null,null,null,null,null,null,3,{"$f":"Joueurs!$C$6","v":"Arnaud BLAYE"},20,10,0,1,0,28,3,121,25]
[null,null,null,null,null,null,null,null,null,null,null,4,{"$f":"Joueurs!$C$7","v":"Pascal FRITSCH"},17,8,1,2,0,23,7,110,16]
[null,null,null,null,null,null,null,null,null,null,null,5,{"$f":"Joueurs!$C$8","v":"Jean-Marc DURAND"},19,9,1,1,0,24,5,122,19]
[null,null,null,null,null,null,null,null,null,null,null,6,{"$f":"Joueurs!$C$9","v":"Cyrille PUMA"},10,3,4,4,0,14,18,104,-4]
[null,null,null,null,null,null,null,null,null,null,null,7,{"$f":"Joueurs!$C$10","v":"Alain BURNEL"},14,6,2,3,0,15,10,110,5]
[null,null,null,null,null,null,null,null,null,null,null,8,{"$f":"Joueurs!$C$11","v":"Bertrand ADAM"},8,3,2,6,0,13,25,98,-12]
[null,null,null,null,null,null,null,null,null,null,null,9,{"$f":"Joueurs!$C$12","v":"Héloïse CORNOUILLER"},8,3,2,6,0,14,18,103,-4]
[null,null,null,null,null,null,null,null,null,null,null,10,{"$f":"Joueurs!$C$13","v":"Patrick BRAGANTI"},7,3,1,7,0,15,27,94,-12]
[null,null,null,null,null,null,null,null,null,null,null,11,{"$f":"Joueurs!$C$14","v":"Ahmed BAKAYOKO"},6,2,2,7,0,14,18,106,-4]
[null,null,null,null,null,null,null,null,null,null,null,12,{"$f":"Joueurs!$C$15","v":"Bruno CORNOUILLER"},14,5,4,2,0,16,10,109,6]
[null,null,null,null,null,null,null,null,null,null,null,13,{"$f":"Joueurs!$C$16","v":"Christian HAESELEER"},5,2,1,8,0,15,25,99,-10]
[null,null,null,null,null,null,null,null,null,null,null,14,{"$f":"Joueurs!$C$17","v":"Christophe SAUTY"},3,0,3,8,0,6,35,81,-29]
[null,null,null,null,null,null,null,null,null,null,null,15,{"$f":"Joueurs!$C$18","v":"Gilles VALDENAIRE"},10,3,4,4,0,14,18,111,-4]
[null,null,null,null,null,null,null,null,null,null,null,16,{"$f":"Joueurs!$C$19","v":"Hervé MASUYER"},4,2,0,9,0,14,31,95,-17]

{"sheet":"Match12","index":13,"n_rows":42,"n_cols":32,"rows_kept":42,"cut":false,"hidden":false,"merged":[[3,4,3,5],[3,6,3,7],[3,8,3,9],[0,3,0,4],[0,12,0,21],[1,3,1,4],[1,12,1,21],[2,3,2,4],[2,12,2,21]]}
[null,null,null,"Pointures de l'Est 2018",null,null,null,null,null,null,null,null,"Pointures de l'Est 2018"]
[null,null,null,"Laxou, le 23 février 2019",null,null,null,null,null,null,null,null,"Laxou, le 23 février 2019"]
[null,null,null,"Match n°12",null,null,null,null,null,null,null,null,"Classement après le match n°12"]
[null,null,"Jou","Joueur A","Joueur B",null,"Score",null,"Tops",null,null,"Place","Joueur","Pts","G","N","P","TT","T+","T-","Tops","GA"]
[null,"Table","N°","Nom","Nom","N°","A","B","A","B",null,1,{"$f":"Joueurs!$C$6","v":"Arnaud BLAYE"},22,11,0,1,0,30,3,132,27,null,0,0,0,0,0,0,0,0,0]
[null,1,1,{"$f":"Joueurs!$C$4","v":"Emmanuel DUMAS"},{"$f":"Joueurs!$C$8","v":"Jean-Marc DURAND"},5,12,12,12,12,null,2,{"$f":"Joueurs!$C$8","v":"Jean-Marc DURAND"},21,9,1,1,1,24,5,134,19,null,0,0,0,0,0,0,0,0,0]
[null,2,2,{"$f":"Joueurs!$C$5","v":"Christophe LECLÈRE"},{"$f":"Joueurs!$C$9","v":"Cyrille PUMA"},6,12,9,11,8,null,3,{"$f":"Joueurs!$C$7","v":"Pascal FRITSCH"},19,9,1,2,0,27,10,119,17,null,0,0,0,0,0,0,0,0,0]
[null,3,3,{"$f":"Joueurs!$C$6","v":"Arnaud BLAYE"},{"$f":"Joueurs!$C$10","v":"Alain BURNEL"},7,12,10,11,9,null,4,{"$f":"Joueurs!$C$5","v":"Christophe LECLÈRE"},18,8,2,2,0,24,8,125,16,null,0,0,0,0,0,0,0,0,0]
[null,4,4,{"$f":"Joueurs!$C$7","v":"Pascal FRITSCH"},{"$f":"Joueurs!$C$11","v":"Bertrand ADAM"},8,9,8,9,8,null,5,{"$f":"Joueurs!$C$4","v":"Emmanuel DUMAS"},17,6,3,2,1,21,9,128,12,null,0,0,0,0,0,0,0,0,0]
[null,5,9,{"$f":"Joueurs!$C$12","v":"Héloïse CORNOUILLER"},{"$f":"Joueurs!$C$16","v":"Christian HAESELEER"},13,12,10,11,10,null,6,{"$f":"Joueurs!$C$15","v":"Bruno CORNOUILLER"},14,5,4,3,0,16,11,119,5,null,0,0,0,0,0,0,0,0,0]
[null,6,10,{"$f":"Joueurs!$C$13","v":"Patrick BRAGANTI"},{"$f":"Joueurs!$C$17","v":"Christophe SAUTY"},14,12,12,10,10,null,7,{"$f":"Joueurs!$C$10","v":"Alain BURNEL"},14,6,2,4,0,15,12,119,3,null,0,0,0,0,0,0,0,0,0]
[null,7,11,{"$f":"Joueurs!$C$14","v":"Ahmed BAKAYOKO"},{"$f":"Joueurs!$C$18","v":"Gilles VALDENAIRE"},15,12,8,11,7,null,8,{"$f":"Joueurs!$C$18","v":"Gilles VALDENAIRE"},10,3,4,5,0,14,22,118,-8,null,0,0,0,0,0,0,0,0,0]
[null,8,12,{"$f":"Joueurs!$C$15","v":"Bruno CORNOUILLER"},{"$f":"Joueurs!$C$19","v":"Hervé MASUYER"},16,11,12,10,11,null,9,{"$f":"Joueurs!$C$12","v":"Héloïse CORNOUILLER"},10,4,2,6,0,16,18,114,-2,null,0,0,0,0,0,0,0,0,0]
[null,null,null,null,null,null,null,null,null,null,null,10,{"$f":"Joueurs!$C$9","v":"Cyrille PUMA"},10,3,4,5,0,14,21,112,-7,null,0,0,0,0,0,0,0,0,0]
[null,null,null,null,null,null,null,null,null,null,null,11,{"$f":"Joueurs!$C$14","v":"Ahmed BAKAYOKO"},8,3,2,7,0,18,18,117,0,null,0,0,0,0,0,0,0,0,0]
[null,null,null,null,null,null,null,null,null,null,null,12,{"$f":"Joueurs!$C$11","v":"Bertrand ADAM"},8,3,2,7,0,16,29,106,-13,null,0,0,0,0,0,0,0,0,0]
[null,null,null,null,null,null,null,null,null,null,null,13,{"$f":"Joueurs!$C$13","v":"Patrick BRAGANTI"},8,3,2,7,0,15,27,104,-12,null,0,0,0,0,0,0,0,0,0]
[null,null,null,null,null,null,null,null,null,null,null,14,{"$f":"Joueurs!$C$19","v":"Hervé MASUYER"},6,3,0,9,0,15,31,106,-16,null,0,0,0,0,0,0,0,0,0]
[null,null,null,null,null,null,null,null,null,null,null,15,{"$f":"Joueurs!$C$16","v":"Christian HAESELEER"},5,2,1,9,0,15,27,109,-12,null,0,0,0,0,0,0,0,0,0]
[null,null,null,null,null,null,null,null,null,null,null,16,{"$f":"Joueurs!$C$17","v":"Christophe SAUTY"},4,0,4,8,0,6,35,91,-29,null,0,0,0,0,0,0,0,0,0]
[]
[]
[]
[]
[]
[null,null,null,null,null,null,null,null,null,null,"x","N°","Joueur","Pts","G","N","P","TT","T+","T-","Tops","GA"]
[null,null,null,null,null,null,null,null,null,null,null,1,{"$f":"Joueurs!$C$4","v":"Emmanuel DUMAS"},17,6,3,2,1,21,9,128,12]
[null,null,null,null,null,null,null,null,null,null,null,2,{"$f":"Joueurs!$C$5","v":"Christophe LECLÈRE"},18,8,2,2,0,24,8,125,16]
[null,null,null,null,null,null,null,null,null,null,null,3,{"$f":"Joueurs!$C$6","v":"Arnaud BLAYE"},22,11,0,1,0,30,3,132,27]
[null,null,null,null,null,null,null,null,null,null,null,4,{"$f":"Joueurs!$C$7","v":"Pascal FRITSCH"},19,9,1,2,0,27,10,119,17]
[null,null,null,null,null,null,null,null,null,null,null,5,{"$f":"Joueurs!$C$8","v":"Jean-Marc DURAND"},21,9,1,1,1,24,5,134,19]
[null,null,null,null,null,null,null,null,null,null,null,6,{"$f":"Joueurs!$C$9","v":"Cyrille PUMA"},10,3,4,5,0,14,21,112,-7]
[null,null,null,null,null,null,null,null,null,null,null,7,{"$f":"Joueurs!$C$10","v":"Alain BURNEL"},14,6,2,4,0,15,12,119,3]
[null,null,null,null,null,null,null,null,null,null,null,8,{"$f":"Joueurs!$C$11","v":"Bertrand ADAM"},8,3,2,7,0,16,29,106,-13]
[null,null,null,null,null,null,null,null,null,null,null,9,{"$f":"Joueurs!$C$12","v":"Héloïse CORNOUILLER"},10,4,2,6,0,16,18,114,-2]
[null,null,null,null,null,null,null,null,null,null,null,10,{"$f":"Joueurs!$C$13","v":"Patrick BRAGANTI"},8,3,2,7,0,15,27,104,-12]
[null,null,null,null,null,null,null,null,null,null,null,11,{"$f":"Joueurs!$C$14","v":"Ahmed BAKAYOKO"},8,3,2,7,0,18,18,117,0]
[null,null,null,null,null,null,null,null,null,null,null,12,{"$f":"Joueurs!$C$15","v":"Bruno CORNOUILLER"},14,5,4,3,0,16,11,119,5]
[null,null,null,null,null,null,null,null,null,null,null,13,{"$f":"Joueurs!$C$16","v":"Christian HAESELEER"},5,2,1,9,0,15,27,109,-12]
[null,null,null,null,null,null,null,null,null,null,null,14,{"$f":"Joueurs!$C$17","v":"Christophe SAUTY"},4,0,4,8,0,6,35,91,-29]
[null,null,null,null,null,null,null,null,null,null,null,15,{"$f":"Joueurs!$C$18","v":"Gilles VALDENAIRE"},10,3,4,5,0,14,22,118,-8]
[null,null,null,null,null,null,null,null,null,null,null,16,{"$f":"Joueurs!$C$19","v":"Hervé MASUYER"},6,3,0,9,0,15,31,106,-16]

{"sheet":"Match13","index":14,"n_rows":42,"n_cols":32,"rows_kept":42,"cut":false,"hidden":false,"merged":[[3,4,3,5],[3,6,3,7],[3,8,3,9],[0,3,0,4],[0,12,0,21],[1,3,1,4],[1,12,1,21],[2,3,2,4],[2,12,2,21]]}
[null,null,null,"Pointures de l'Est 2018",null,null,null,null,null,null,null,null,"Pointures de l'Est 2018"]
[null,null,null,"Laxou, le 23 février 2019",null,null,null,null,null,null,null,null,"Laxou, le 23 février 2019"]
[null,null,null,"Match n°13",null,null,null,null,null,null,null,null,"Classement après le match n°13"]
[null,null,"Jou","Joueur A","Joueur B",null,"Score",null,"Tops",null,null,"Place","Joueur","Pts","G","N","P","TT","T+","T-","Tops","GA"]
[null,"Table","N°","Nom","Nom","N°","A","B","A","B",null,1,{"$f":"Joueurs!$C$8","v":"Jean-Marc DURAND"},23,10,1,1,1,26,5,146,21,null,0,0,0,0,0,0,0,0,0]
[null,1,1,{"$f":"Joueurs!$C$4","v":"Emmanuel DUMAS"},{"$f":"Joueurs!$C$7","v":"Pascal FRITSCH"},4,12,10,10,9,null,2,{"$f":"Joueurs!$C$6","v":"Arnaud BLAYE"},22,11,0,2,0,30,4,143,26,null,0,0,0,0,0,0,0,0,0]
[null,2,2,{"$f":"Joueurs!$C$5","v":"Christophe LECLÈRE"},{"$f":"Joueurs!$C$6","v":"Arnaud BLAYE"},3,12,11,12,11,null,3,{"$f":"Joueurs!$C$5","v":"Christophe LECLÈRE"},20,9,2,2,0,25,8,137,17,null,0,0,0,0,0,0,0,0,0]
[null,3,5,{"$f":"Joueurs!$C$8","v":"Jean-Marc DURAND"},{"$f":"Joueurs!$C$11","v":"Bertrand ADAM"},8,12,10,12,10,null,4,{"$f":"Joueurs!$C$4","v":"Emmanuel DUMAS"},19,7,3,2,1,23,9,138,14,null,0,0,0,0,0,0,0,0,0]
[null,4,6,{"$f":"Joueurs!$C$9","v":"Cyrille PUMA"},{"$f":"Joueurs!$C$10","v":"Alain BURNEL"},7,12,12,11,11,null,5,{"$f":"Joueurs!$C$7","v":"Pascal FRITSCH"},19,9,1,3,0,27,12,128,15,null,0,0,0,0,0,0,0,0,0]
[null,5,9,{"$f":"Joueurs!$C$12","v":"Héloïse CORNOUILLER"},{"$f":"Joueurs!$C$15","v":"Bruno CORNOUILLER"},12,10,11,10,11,null,6,{"$f":"Joueurs!$C$15","v":"Bruno CORNOUILLER"},16,6,4,3,0,18,12,130,6,null,0,0,0,0,0,0,0,0,0]
[null,6,10,{"$f":"Joueurs!$C$13","v":"Patrick BRAGANTI"},{"$f":"Joueurs!$C$14","v":"Ahmed BAKAYOKO"},11,10,12,10,12,null,7,{"$f":"Joueurs!$C$10","v":"Alain BURNEL"},15,6,3,4,0,15,12,130,3,null,0,0,0,0,0,0,0,0,0]
[null,7,13,{"$f":"Joueurs!$C$16","v":"Christian HAESELEER"},{"$f":"Joueurs!$C$19","v":"Hervé MASUYER"},16,10,11,9,10,null,8,{"$f":"Joueurs!$C$18","v":"Gilles VALDENAIRE"},12,4,4,5,0,16,22,129,-6,null,0,0,0,0,0,0,0,0,0]
[null,8,14,{"$f":"Joueurs!$C$17","v":"Christophe SAUTY"},{"$f":"Joueurs!$C$18","v":"Gilles VALDENAIRE"},15,10,12,9,11,null,9,{"$f":"Joueurs!$C$9","v":"Cyrille PUMA"},11,3,5,5,0,14,21,123,-7,null,0,0,0,0,0,0,0,0,0]
[null,null,null,null,null,null,null,null,null,null,null,10,{"$f":"Joueurs!$C$14","v":"Ahmed BAKAYOKO"},10,4,2,7,0,20,18,129,2,null,0,0,0,0,0,0,0,0,0]
[null,null,null,null,null,null,null,null,null,null,null,11,{"$f":"Joueurs!$C$12","v":"Héloïse CORNOUILLER"},10,4,2,7,0,17,20,124,-3,null,0,0,0,0,0,0,0,0,0]
[null,null,null,null,null,null,null,null,null,null,null,12,{"$f":"Joueurs!$C$11","v":"Bertrand ADAM"},8,3,2,8,0,16,31,116,-15,null,0,0,0,0,0,0,0,0,0]
[null,null,null,null,null,null,null,null,null,null,null,13,{"$f":"Joueurs!$C$19","v":"Hervé MASUYER"},8,4,0,9,0,17,32,116,-15,null,0,0,0,0,0,0,0,0,0]
[null,null,null,null,null,null,null,null,null,null,null,14,{"$f":"Joueurs!$C$13","v":"Patrick BRAGANTI"},8,3,2,8,0,15,29,114,-14,null,0,0,0,0,0,0,0,0,0]
[null,null,null,null,null,null,null,null,null,null,null,15,{"$f":"Joueurs!$C$16","v":"Christian HAESELEER"},5,2,1,10,0,16,29,118,-13,null,0,0,0,0,0,0,0,0,0]
[null,null,null,null,null,null,null,null,null,null,null,16,{"$f":"Joueurs!$C$17","v":"Christophe SAUTY"},4,0,4,9,0,6,37,100,-31,null,0,0,0,0,0,0,0,0,0]
[]
[]
[]
[]
[]
[null,null,null,null,null,null,null,null,null,null,"x","N°","Joueur","Pts","G","N","P","TT","T+","T-","Tops","GA"]
[null,null,null,null,null,null,null,null,null,null,null,1,{"$f":"Joueurs!$C$4","v":"Emmanuel DUMAS"},19,7,3,2,1,23,9,138,14]
[null,null,null,null,null,null,null,null,null,null,null,2,{"$f":"Joueurs!$C$5","v":"Christophe LECLÈRE"},20,9,2,2,0,25,8,137,17]
[null,null,null,null,null,null,null,null,null,null,null,3,{"$f":"Joueurs!$C$6","v":"Arnaud BLAYE"},22,11,0,2,0,30,4,143,26]
[null,null,null,null,null,null,null,null,null,null,null,4,{"$f":"Joueurs!$C$7","v":"Pascal FRITSCH"},19,9,1,3,0,27,12,128,15]
[null,null,null,null,null,null,null,null,null,null,null,5,{"$f":"Joueurs!$C$8","v":"Jean-Marc DURAND"},23,10,1,1,1,26,5,146,21]
[null,null,null,null,null,null,null,null,null,null,null,6,{"$f":"Joueurs!$C$9","v":"Cyrille PUMA"},11,3,5,5,0,14,21,123,-7]
[null,null,null,null,null,null,null,null,null,null,null,7,{"$f":"Joueurs!$C$10","v":"Alain BURNEL"},15,6,3,4,0,15,12,130,3]
[null,null,null,null,null,null,null,null,null,null,null,8,{"$f":"Joueurs!$C$11","v":"Bertrand ADAM"},8,3,2,8,0,16,31,116,-15]
[null,null,null,null,null,null,null,null,null,null,null,9,{"$f":"Joueurs!$C$12","v":"Héloïse CORNOUILLER"},10,4,2,7,0,17,20,124,-3]
[null,null,null,null,null,null,null,null,null,null,null,10,{"$f":"Joueurs!$C$13","v":"Patrick BRAGANTI"},8,3,2,8,0,15,29,114,-14]
[null,null,null,null,null,null,null,null,null,null,null,11,{"$f":"Joueurs!$C$14","v":"Ahmed BAKAYOKO"},10,4,2,7,0,20,18,129,2]
[null,null,null,null,null,null,null,null,null,null,null,12,{"$f":"Joueurs!$C$15","v":"Bruno CORNOUILLER"},16,6,4,3,0,18,12,130,6]
[null,null,null,null,null,null,null,null,null,null,null,13,{"$f":"Joueurs!$C$16","v":"Christian HAESELEER"},5,2,1,10,0,16,29,118,-13]
[null,null,null,null,null,null,null,null,null,null,null,14,{"$f":"Joueurs!$C$17","v":"Christophe SAUTY"},4,0,4,9,0,6,37,100,-31]
[null,null,null,null,null,null,null,null,null,null,null,15,{"$f":"Joueurs!$C$18","v":"Gilles VALDENAIRE"},12,4,4,5,0,16,22,129,-6]
[null,null,null,null,null,null,null,null,null,null,null,16,{"$f":"Joueurs!$C$19","v":"Hervé MASUYER"},8,4,0,9,0,17,32,116,-15]

{"sheet":"Match14","index":15,"n_rows":42,"n_cols":32,"rows_kept":42,"cut":false,"hidden":false,"merged":[[3,4,3,5],[3,6,3,7],[3,8,3,9],[0,3,0,4],[0,12,0,21],[1,3,1,4],[1,12,1,21],[2,3,2,4],[2,12,2,21]]}
[null,null,null,"Pointures de l'Est 2018",null,null,null,null,null,null,null,null,"Pointures de l'Est 2018"]
[null,null,null,"Laxou, le 23 février 2019",null,null,null,null,null,null,null,null,"Laxou, le 23 février 2019"]
[null,null,null,"Match n°14",null,null,null,null,null,null,null,null,"Classement après le match n°14"]
[null,null,"Jou","Joueur A","Joueur B",null,"Score",null,"Tops",null,null,"Place","Joueur","Pts","G","N","P","TT","T+","T-","Tops","GA"]
[null,"Table","N°","Nom","Nom","N°","A","B","A","B",null,1,{"$f":"Joueurs!$C$8","v":"Jean-Marc DURAND"},25,11,1,1,1,27,5,158,22,null,0,0,0,0,0,0,0,0,0]
[null,1,1,{"$f":"Joueurs!$C$4","v":"Emmanuel DUMAS"},{"$f":"Joueurs!$C$6","v":"Arnaud BLAYE"},3,8,11,8,10,null,2,{"$f":"Joueurs!$C$6","v":"Arnaud BLAYE"},24,12,0,2,0,34,5,153,29,null,0,0,0,0,0,0,0,0,0]
[null,2,2,{"$f":"Joueurs!$C$5","v":"Christophe LECLÈRE"},{"$f":"Joueurs!$C$7","v":"Pascal FRITSCH"},4,8,11,6,10,null,3,{"$f":"Joueurs!$C$7","v":"Pascal FRITSCH"},21,10,1,3,0,31,13,138,18,null,0,0,0,0,0,0,0,0,0]
[null,3,5,{"$f":"Joueurs!$C$8","v":"Jean-Marc DURAND"},{"$f":"Joueurs!$C$10","v":"Alain BURNEL"},7,12,11,12,11,null,4,{"$f":"Joueurs!$C$5","v":"Christophe LECLÈRE"},20,9,2,3,0,26,12,143,14,null,0,0,0,0,0,0,0,0,0]
[null,4,6,{"$f":"Joueurs!$C$9","v":"Cyrille PUMA"},{"$f":"Joueurs!$C$11","v":"Bertrand ADAM"},8,11,9,9,9,null,5,{"$f":"Joueurs!$C$4","v":"Emmanuel DUMAS"},19,7,3,3,1,24,13,146,11,null,0,0,0,0,0,0,0,0,0]
[null,5,9,{"$f":"Joueurs!$C$12","v":"Héloïse CORNOUILLER"},{"$f":"Joueurs!$C$14","v":"Ahmed BAKAYOKO"},11,12,10,10,8,null,6,{"$f":"Joueurs!$C$15","v":"Bruno CORNOUILLER"},18,7,4,3,0,21,13,140,8,null,0,0,0,0,0,0,0,0,0]
[null,6,10,{"$f":"Joueurs!$C$13","v":"Patrick BRAGANTI"},{"$f":"Joueurs!$C$15","v":"Bruno CORNOUILLER"},12,9,11,9,10,null,7,{"$f":"Joueurs!$C$10","v":"Alain BURNEL"},15,6,3,5,0,15,13,141,2,null,0,0,0,0,0,0,0,0,0]
[null,7,13,{"$f":"Joueurs!$C$16","v":"Christian HAESELEER"},{"$f":"Joueurs!$C$18","v":"Gilles VALDENAIRE"},15,7,11,7,10,null,8,{"$f":"Joueurs!$C$18","v":"Gilles VALDENAIRE"},14,5,4,5,0,21,23,139,-2,null,0,0,0,0,0,0,0,0,0]
[null,8,14,{"$f":"Joueurs!$C$17","v":"Christophe SAUTY"},{"$f":"Joueurs!$C$19","v":"Hervé MASUYER"},16,7,11,7,8,null,9,{"$f":"Joueurs!$C$9","v":"Cyrille PUMA"},13,4,5,5,0,17,22,132,-5,null,0,0,0,0,0,0,0,0,0]
[null,null,null,null,null,null,null,null,null,null,null,10,{"$f":"Joueurs!$C$12","v":"Héloïse CORNOUILLER"},12,5,2,7,0,19,20,134,-1,null,0,0,0,0,0,0,0,0,0]
[null,null,null,null,null,null,null,null,null,null,null,11,{"$f":"Joueurs!$C$14","v":"Ahmed BAKAYOKO"},10,4,2,8,0,20,20,137,0,null,0,0,0,0,0,0,0,0,0]
[null,null,null,null,null,null,null,null,null,null,null,12,{"$f":"Joueurs!$C$19","v":"Hervé MASUYER"},10,5,0,9,0,22,33,124,-11,null,0,0,0,0,0,0,0,0,0]
[null,null,null,null,null,null,null,null,null,null,null,13,{"$f":"Joueurs!$C$11","v":"Bertrand ADAM"},8,3,2,9,0,17,34,125,-17,null,0,0,0,0,0,0,0,0,0]
[null,null,null,null,null,null,null,null,null,null,null,14,{"$f":"Joueurs!$C$13","v":"Patrick BRAGANTI"},8,3,2,9,0,16,32,123,-16,null,0,0,0,0,0,0,0,0,0]
[null,null,null,null,null,null,null,null,null,null,null,15,{"$f":"Joueurs!$C$16","v":"Christian HAESELEER"},5,2,1,11,0,17,34,125,-17,null,0,0,0,0,0,0,0,0,0]
[null,null,null,null,null,null,null,null,null,null,null,16,{"$f":"Joueurs!$C$17","v":"Christophe SAUTY"},4,0,4,10,0,7,42,107,-35,null,0,0,0,0,0,0,0,0,0]
[]
[]
[]
[]
[]
[null,null,null,null,null,null,null,null,null,null,"x","N°","Joueur","Pts","G","N","P","TT","T+","T-","Tops","GA"]
[null,null,null,null,null,null,null,null,null,null,null,1,{"$f":"Joueurs!$C$4","v":"Emmanuel DUMAS"},19,7,3,3,1,24,13,146,11]
[null,null,null,null,null,null,null,null,null,null,null,2,{"$f":"Joueurs!$C$5","v":"Christophe LECLÈRE"},20,9,2,3,0,26,12,143,14]
[null,null,null,null,null,null,null,null,null,null,null,3,{"$f":"Joueurs!$C$6","v":"Arnaud BLAYE"},24,12,0,2,0,34,5,153,29]
[null,null,null,null,null,null,null,null,null,null,null,4,{"$f":"Joueurs!$C$7","v":"Pascal FRITSCH"},21,10,1,3,0,31,13,138,18]
[null,null,null,null,null,null,null,null,null,null,null,5,{"$f":"Joueurs!$C$8","v":"Jean-Marc DURAND"},25,11,1,1,1,27,5,158,22]
[null,null,null,null,null,null,null,null,null,null,null,6,{"$f":"Joueurs!$C$9","v":"Cyrille PUMA"},13,4,5,5,0,17,22,132,-5]
[null,null,null,null,null,null,null,null,null,null,null,7,{"$f":"Joueurs!$C$10","v":"Alain BURNEL"},15,6,3,5,0,15,13,141,2]
[null,null,null,null,null,null,null,null,null,null,null,8,{"$f":"Joueurs!$C$11","v":"Bertrand ADAM"},8,3,2,9,0,17,34,125,-17]
[null,null,null,null,null,null,null,null,null,null,null,9,{"$f":"Joueurs!$C$12","v":"Héloïse CORNOUILLER"},12,5,2,7,0,19,20,134,-1]
[null,null,null,null,null,null,null,null,null,null,null,10,{"$f":"Joueurs!$C$13","v":"Patrick BRAGANTI"},8,3,2,9,0,16,32,123,-16]
[null,null,null,null,null,null,null,null,null,null,null,11,{"$f":"Joueurs!$C$14","v":"Ahmed BAKAYOKO"},10,4,2,8,0,20,20,137,0]
[null,null,null,null,null,null,null,null,null,null,null,12,{"$f":"Joueurs!$C$15","v":"Bruno CORNOUILLER"},18,7,4,3,0,21,13,140,8]
[null,null,null,null,null,null,null,null,null,null,null,13,{"$f":"Joueurs!$C$16","v":"Christian HAESELEER"},5,2,1,11,0,17,34,125,-17]
[null,null,null,null,null,null,null,null,null,null,null,14,{"$f":"Joueurs!$C$17","v":"Christophe SAUTY"},4,0,4,10,0,7,42,107,-35]
[null,null,null,null,null,null,null,null,null,null,null,15,{"$f":"Joueurs!$C$18","v":"Gilles VALDENAIRE"},14,5,4,5,0,21,23,139,-2]
[null,null,null,null,null,null,null,null,null,null,null,16,{"$f":"Joueurs!$C$19","v":"Hervé MASUYER"},10,5,0,9,0,22,33,124,-11]

{"sheet":"Match15","index":16,"n_rows":42,"n_cols":32,"rows_kept":42,"cut":false,"hidden":false,"merged":[[3,4,3,5],[3,6,3,7],[3,8,3,9],[0,3,0,4],[0,12,0,21],[1,3,1,4],[1,12,1,21],[2,3,2,4],[2,12,2,21]]}
[null,null,null,"Pointures de l'Est 2018",null,null,null,null,null,null,null,null,"Pointures de l'Est 2018"]
[null,null,null,"Laxou, le 23 février 2019",null,null,null,null,null,null,null,null,"Laxou, le 23 février 2019"]
[null,null,null,"Match n°15",null,null,null,null,null,null,null,null,"Classement final"]
[null,null,"Jou","Joueur A","Joueur B",null,"Score",null,"Tops",null,null,"Place","Joueur","Pts","G","N","P","TT","T+","T-","Tops","GA"]
[null,"Table","N°","Nom","Nom","N°","A","B","A","B",null,1,{"$f":"Joueurs!$C$8","v":"Jean-Marc DURAND"},27,12,1,1,1,32,5,169,27,null,0,0,0,0,0,0,0,0,0]
[null,1,1,{"$f":"Joueurs!$C$4","v":"Emmanuel DUMAS"},{"$f":"Joueurs!$C$5","v":"Christophe LECLÈRE"},2,9,10,9,10,null,2,{"$f":"Joueurs!$C$6","v":"Arnaud BLAYE"},26,13,0,2,0,37,6,163,31,null,0,0,0,0,0,0,0,0,0]
[null,2,3,{"$f":"Joueurs!$C$6","v":"Arnaud BLAYE"},{"$f":"Joueurs!$C$7","v":"Pascal FRITSCH"},4,11,9,10,8,null,3,{"$f":"Joueurs!$C$5","v":"Christophe LECLÈRE"},22,10,2,3,0,29,14,153,15,null,0,0,0,0,0,0,0,0,0]
[null,3,5,{"$f":"Joueurs!$C$8","v":"Jean-Marc DURAND"},{"$f":"Joueurs!$C$9","v":"Cyrille PUMA"},6,12,7,11,6,null,4,{"$f":"Joueurs!$C$7","v":"Pascal FRITSCH"},21,10,1,4,0,32,16,146,16,null,0,0,0,0,0,0,0,0,0]
[null,4,7,{"$f":"Joueurs!$C$10","v":"Alain BURNEL"},{"$f":"Joueurs!$C$11","v":"Bertrand ADAM"},8,10,9,7,6,null,5,{"$f":"Joueurs!$C$4","v":"Emmanuel DUMAS"},19,7,3,4,1,26,16,155,10,null,0,0,0,0,0,0,0,0,0]
[null,5,9,{"$f":"Joueurs!$C$12","v":"Héloïse CORNOUILLER"},{"$f":"Joueurs!$C$13","v":"Patrick BRAGANTI"},10,9,9,8,8,null,6,{"$f":"Joueurs!$C$15","v":"Bruno CORNOUILLER"},19,7,5,3,0,24,16,147,8,null,0,0,0,0,0,0,0,0,0]
[null,6,11,{"$f":"Joueurs!$C$14","v":"Ahmed BAKAYOKO"},{"$f":"Joueurs!$C$15","v":"Bruno CORNOUILLER"},12,9,9,8,7,null,7,{"$f":"Joueurs!$C$10","v":"Alain BURNEL"},17,7,3,5,0,18,15,148,3,null,0,0,0,0,0,0,0,0,0]
[null,7,13,{"$f":"Joueurs!$C$16","v":"Christian HAESELEER"},{"$f":"Joueurs!$C$17","v":"Christophe SAUTY"},14,9,8,5,4,null,8,{"$f":"Joueurs!$C$18","v":"Gilles VALDENAIRE"},16,6,4,5,0,26,24,149,2,null,0,0,0,0,0,0,0,0,0]
[null,8,15,{"$f":"Joueurs!$C$18","v":"Gilles VALDENAIRE"},{"$f":"Joueurs!$C$19","v":"Hervé MASUYER"},16,11,7,10,6,null,9,{"$f":"Joueurs!$C$12","v":"Héloïse CORNOUILLER"},13,5,3,7,0,22,23,142,-1,null,0,0,0,0,0,0,0,0,0]
[null,null,null,null,null,null,null,null,null,null,null,10,{"$f":"Joueurs!$C$9","v":"Cyrille PUMA"},13,4,5,6,0,17,27,138,-10,null,0,0,0,0,0,0,0,0,0]
[null,null,null,null,null,null,null,null,null,null,null,11,{"$f":"Joueurs!$C$14","v":"Ahmed BAKAYOKO"},11,4,3,8,0,23,23,145,0,null,0,0,0,0,0,0,0,0,0]
[null,null,null,null,null,null,null,null,null,null,null,12,{"$f":"Joueurs!$C$19","v":"Hervé MASUYER"},10,5,0,10,0,23,38,130,-15,null,0,0,0,0,0,0,0,0,0]
[null,null,null,null,null,null,null,null,null,null,null,13,{"$f":"Joueurs!$C$13","v":"Patrick BRAGANTI"},9,3,3,9,0,19,35,131,-16,null,0,0,0,0,0,0,0,0,0]
[null,null,null,null,null,null,null,null,null,null,null,14,{"$f":"Joueurs!$C$11","v":"Bertrand ADAM"},8,3,2,10,0,19,37,131,-18,null,0,0,0,0,0,0,0,0,0]
[null,null,null,null,null,null,null,null,null,null,null,15,{"$f":"Joueurs!$C$16","v":"Christian HAESELEER"},7,3,1,11,0,21,37,130,-16,null,0,0,0,0,0,0,0,0,0]
[null,null,null,null,null,null,null,null,null,null,null,16,{"$f":"Joueurs!$C$17","v":"Christophe SAUTY"},4,0,4,11,0,10,46,111,-36,null,0,0,0,0,0,0,0,0,0]
[]
[]
[]
[]
[]
[null,null,null,null,null,null,null,null,null,null,"x","N°","Joueur","Pts","G","N","P","TT","T+","T-","Tops","GA"]
[null,null,null,null,null,null,null,null,null,null,null,1,{"$f":"Joueurs!$C$4","v":"Emmanuel DUMAS"},19,7,3,4,1,26,16,155,10]
[null,null,null,null,null,null,null,null,null,null,null,2,{"$f":"Joueurs!$C$5","v":"Christophe LECLÈRE"},22,10,2,3,0,29,14,153,15]
[null,null,null,null,null,null,null,null,null,null,null,3,{"$f":"Joueurs!$C$6","v":"Arnaud BLAYE"},26,13,0,2,0,37,6,163,31]
[null,null,null,null,null,null,null,null,null,null,null,4,{"$f":"Joueurs!$C$7","v":"Pascal FRITSCH"},21,10,1,4,0,32,16,146,16]
[null,null,null,null,null,null,null,null,null,null,null,5,{"$f":"Joueurs!$C$8","v":"Jean-Marc DURAND"},27,12,1,1,1,32,5,169,27]
[null,null,null,null,null,null,null,null,null,null,null,6,{"$f":"Joueurs!$C$9","v":"Cyrille PUMA"},13,4,5,6,0,17,27,138,-10]
[null,null,null,null,null,null,null,null,null,null,null,7,{"$f":"Joueurs!$C$10","v":"Alain BURNEL"},17,7,3,5,0,18,15,148,3]
[null,null,null,null,null,null,null,null,null,null,null,8,{"$f":"Joueurs!$C$11","v":"Bertrand ADAM"},8,3,2,10,0,19,37,131,-18]
[null,null,null,null,null,null,null,null,null,null,null,9,{"$f":"Joueurs!$C$12","v":"Héloïse CORNOUILLER"},13,5,3,7,0,22,23,142,-1]
[null,null,null,null,null,null,null,null,null,null,null,10,{"$f":"Joueurs!$C$13","v":"Patrick BRAGANTI"},9,3,3,9,0,19,35,131,-16]
[null,null,null,null,null,null,null,null,null,null,null,11,{"$f":"Joueurs!$C$14","v":"Ahmed BAKAYOKO"},11,4,3,8,0,23,23,145,0]
[null,null,null,null,null,null,null,null,null,null,null,12,{"$f":"Joueurs!$C$15","v":"Bruno CORNOUILLER"},19,7,5,3,0,24,16,147,8]
[null,null,null,null,null,null,null,null,null,null,null,13,{"$f":"Joueurs!$C$16","v":"Christian HAESELEER"},7,3,1,11,0,21,37,130,-16]
[null,null,null,null,null,null,null,null,null,null,null,14,{"$f":"Joueurs!$C$17","v":"Christophe SAUTY"},4,0,4,11,0,10,46,111,-36]
[null,null,null,null,null,null,null,null,null,null,null,15,{"$f":"Joueurs!$C$18","v":"Gilles VALDENAIRE"},16,6,4,5,0,26,24,149,2]
[null,null,null,null,null,null,null,null,null,null,null,16,{"$f":"Joueurs!$C$19","v":"Hervé MASUYER"},10,5,0,10,0,23,38,130,-15]

{"sheet":"ClassementFinal","index":17,"n_rows":20,"n_cols":13,"rows_kept":20,"cut":false,"hidden":false,"merged":[]}
[]
[]
[]
[null,null,"Place","Joueur","Points","Gagnés","Nuls","Perdus","Top-Tops","Tours pris","Tours perdus","Tops","Goal Average"]
[null,null,1,"Jean-Marc DURAND",27,12,1,1,1,32,5,169,27]
[null,null,2,"Arnaud BLAYE",26,13,0,2,0,37,6,163,31]
[null,null,3,"Christophe LECLÈRE",22,10,2,3,0,29,14,153,15]
[null,null,4,"Pascal FRITSCH",21,10,1,4,0,32,16,146,16]
[null,null,5,"Emmanuel DUMAS",19,7,3,4,1,26,16,155,10]
[null,null,6,"Bruno CORNOUILLER",19,7,5,3,0,24,16,147,8]
[null,null,7,"Alain BURNEL",17,7,3,5,0,18,15,148,3]
[null,null,8,"Gilles VALDENAIRE",16,6,4,5,0,26,24,149,2]
[null,null,9,"Héloïse CORNOUILLER",13,5,3,7,0,22,23,142,-1]
[null,null,10,"Cyrille PUMA",13,4,5,6,0,17,27,138,-10]
[null,null,11,"Ahmed BAKAYOKO",11,4,3,8,0,23,23,145,0]
[null,null,12,"Hervé MASUYER",10,5,0,10,0,23,38,130,-15]
[null,null,13,"Patrick BRAGANTI",9,3,3,9,0,19,35,131,-16]
[null,null,14,"Bertrand ADAM",8,3,2,10,0,19,37,131,-18]
[null,null,15,"Christian HAESELEER",7,3,1,11,0,21,37,130,-16]
[null,null,16,"Christophe SAUTY",4,0,4,11,0,10,46,111,-36]